BEGIN:VCALENDAR
VERSION:2.0
PRODID:-//Caravan Club of Sweden - ECPv6.15.17.1//NONSGML v1.0//EN
CALSCALE:GREGORIAN
METHOD:PUBLISH
X-ORIGINAL-URL:https://caravanclub.se
X-WR-CALDESC:Händelser för Caravan Club of Sweden
REFRESH-INTERVAL;VALUE=DURATION:PT1H
X-Robots-Tag:noindex
X-PUBLISHED-TTL:PT1H
BEGIN:VTIMEZONE
TZID:Europe/Stockholm
BEGIN:DAYLIGHT
TZOFFSETFROM:+0100
TZOFFSETTO:+0200
TZNAME:CEST
DTSTART:20250330T010000
END:DAYLIGHT
BEGIN:STANDARD
TZOFFSETFROM:+0200
TZOFFSETTO:+0100
TZNAME:CET
DTSTART:20251026T010000
END:STANDARD
BEGIN:DAYLIGHT
TZOFFSETFROM:+0100
TZOFFSETTO:+0200
TZNAME:CEST
DTSTART:20260329T010000
END:DAYLIGHT
BEGIN:STANDARD
TZOFFSETFROM:+0200
TZOFFSETTO:+0100
TZNAME:CET
DTSTART:20261025T010000
END:STANDARD
BEGIN:DAYLIGHT
TZOFFSETFROM:+0100
TZOFFSETTO:+0200
TZNAME:CEST
DTSTART:20270328T010000
END:DAYLIGHT
BEGIN:STANDARD
TZOFFSETFROM:+0200
TZOFFSETTO:+0100
TZNAME:CET
DTSTART:20271031T010000
END:STANDARD
END:VTIMEZONE
BEGIN:VEVENT
DTSTART;TZID=Europe/Stockholm:20260619T090000
DTEND;TZID=Europe/Stockholm:20260620T230000
DTSTAMP:20260419T231509
CREATED:20260225T103358Z
LAST-MODIFIED:20260330T132323Z
UID:10001161-1781859600-1781996400@caravanclub.se
SUMMARY:Midsommarfirande Storsved
DESCRIPTION:Traditionellt Midsommarfirande på midsommarafton samt 5-kamp på midsommardagen
URL:https://caravanclub.se/event/midsommarfirande-storsved/
LOCATION:Caravan Club Storsved\, Kalvsviksvägen 22B\, Värmdö\, 13990\, Sweden
END:VEVENT
BEGIN:VEVENT
DTSTART;TZID=Europe/Stockholm:20260627T180000
DTEND;TZID=Europe/Stockholm:20260627T230000
DTSTAMP:20260419T231509
CREATED:20251218T120816Z
LAST-MODIFIED:20251218T120816Z
UID:10001055-1782583200-1782601200@caravanclub.se
SUMMARY:Artistkväll - Björkö Örn
DESCRIPTION:Boka redan nu för en häftig sommarkväll med bra artister. \nMera information kommer närmare
URL:https://caravanclub.se/event/artistkvall-bjorko-orn/
LOCATION:Caravan Club Björkö Örn\, Björkö Örns Camping\, Gräddö\, 71650\, Sweden
END:VEVENT
BEGIN:VEVENT
DTSTART;TZID=Europe/Stockholm:20260703T120000
DTEND;TZID=Europe/Stockholm:20260704T120000
DTSTAMP:20260419T231509
CREATED:20251222T105816Z
LAST-MODIFIED:20260120T153626Z
UID:10001056-1783080000-1783166400@caravanclub.se
SUMMARY:Stockholmssektionens sommarträff i Nybro
DESCRIPTION:En träff för CC-medlemmar som är i närheten av Nybro den här tiden. \nVi träffas kl. 12.00 fredag 3/7 på James Bond museet i Nybro. Det är det enda 007-museet i världen. \nVi besöker museet på fredag em.\nAvgiften för den här träffen är 600:- för ställplats och inträde för 2 personer till museet.\nFör de som vill ha 5-kamp på museet kostar det 75:-/person. 1 glas Bollinger 75:-/person och Dry Martini 152:-/person.\nVi grillar vår egen mat gemensamt på fredag kväll och träffen avslutas på lördag 4/7 kl. 12.00\nMax antal ekipage till träffen är 40 st. \nAnmälan till Hans Östman:\nhans.ostman@cc-camping.se\nMobil: 0736571989
URL:https://caravanclub.se/event/stockholmssektionens-sommartraff-i-nybro-3-4-7/
LOCATION:Nybro\, Emmabodavägen 20\, Nybro\, 38445\, Sweden
END:VEVENT
BEGIN:VEVENT
DTSTART;TZID=Europe/Stockholm:20260704T160000
DTEND;TZID=Europe/Stockholm:20260704T230000
DTSTAMP:20260419T231509
CREATED:20260216T172802Z
LAST-MODIFIED:20260216T172802Z
UID:10001127-1783180800-1783206000@caravanclub.se
SUMMARY:Grillfest Örstig
DESCRIPTION:Grillfest Örstig
URL:https://caravanclub.se/event/grillfest-orstig/
LOCATION:Caravan Club Örstig\, Örstigsleden\, Nyköping\, 61192\, Sweden
END:VEVENT
BEGIN:VEVENT
DTSTART;TZID=Europe/Stockholm:20260704T160000
DTEND;TZID=Europe/Stockholm:20260704T230000
DTSTAMP:20260419T231509
CREATED:20260330T132503Z
LAST-MODIFIED:20260330T132503Z
UID:10001198-1783180800-1783206000@caravanclub.se
SUMMARY:Trubadurkväll med pub Storsved
DESCRIPTION:
URL:https://caravanclub.se/event/trubadurkvall-med-pub-storsved/
LOCATION:Caravan Club Storsved\, Kalvsviksvägen 22B\, Värmdö\, 13990\, Sweden
END:VEVENT
BEGIN:VEVENT
DTSTART;TZID=Europe/Stockholm:20260708T080000
DTEND;TZID=Europe/Stockholm:20260708T170000
DTSTAMP:20260419T231509
CREATED:20260220T100014Z
LAST-MODIFIED:20260419T095244Z
UID:10001144-1783497600-1783530000@caravanclub.se
SUMMARY:Familjeaktivitet med loppis Björkö Örn
DESCRIPTION:
URL:https://caravanclub.se/event/familjeaktivitet-bjorko-orn/
LOCATION:Caravan Club Björkö Örn\, Björkö Örns Camping\, Gräddö\, 71650\, Sweden
END:VEVENT
BEGIN:VEVENT
DTSTART;TZID=Europe/Stockholm:20260711T180000
DTEND;TZID=Europe/Stockholm:20260711T230000
DTSTAMP:20260419T231509
CREATED:20260216T181810Z
LAST-MODIFIED:20260216T181810Z
UID:10001137-1783792800-1783810800@caravanclub.se
SUMMARY:Grillafton Kapellskär
DESCRIPTION:
URL:https://caravanclub.se/event/grillafton-kapellskar/
LOCATION:Caravan Club Kapellskär\, Myntarbyäng\, Gräddö\, 76015\, Sverige
END:VEVENT
BEGIN:VEVENT
DTSTART;TZID=Europe/Stockholm:20260715T080000
DTEND;TZID=Europe/Stockholm:20260715T170000
DTSTAMP:20260419T231509
CREATED:20260220T100159Z
LAST-MODIFIED:20260220T100159Z
UID:10001146-1784102400-1784134800@caravanclub.se
SUMMARY:Familjeaktivitet Björkö Örn
DESCRIPTION:
URL:https://caravanclub.se/event/familjeaktivitet-bjorko-orn-2/
LOCATION:Caravan Club Björkö Örn\, Björkö Örns Camping\, Gräddö\, 71650\, Sweden
END:VEVENT
BEGIN:VEVENT
DTSTART;TZID=Europe/Stockholm:20260715T180000
DTEND;TZID=Europe/Stockholm:20260715T230000
DTSTAMP:20260419T231509
CREATED:20260220T100117Z
LAST-MODIFIED:20260220T100117Z
UID:10001145-1784138400-1784156400@caravanclub.se
SUMMARY:Karaokekväll Björkö Örn
DESCRIPTION:
URL:https://caravanclub.se/event/karaokekvall-bjorko-orn-4/
LOCATION:Caravan Club Björkö Örn\, Björkö Örns Camping\, Gräddö\, 71650\, Sweden
END:VEVENT
BEGIN:VEVENT
DTSTART;TZID=Europe/Stockholm:20260717T180000
DTEND;TZID=Europe/Stockholm:20260718T230000
DTSTAMP:20260419T231509
CREATED:20260220T100302Z
LAST-MODIFIED:20260220T100302Z
UID:10001147-1784311200-1784415600@caravanclub.se
SUMMARY:Artiskväll Björkö Örn
DESCRIPTION:
URL:https://caravanclub.se/event/artiskvall-bjorko-orn/
LOCATION:Caravan Club Björkö Örn\, Björkö Örns Camping\, Gräddö\, 71650\, Sweden
END:VEVENT
BEGIN:VEVENT
DTSTART;TZID=Europe/Stockholm:20260722T080000
DTEND;TZID=Europe/Stockholm:20260722T170000
DTSTAMP:20260419T231509
CREATED:20260220T100338Z
LAST-MODIFIED:20260220T100338Z
UID:10001148-1784707200-1784739600@caravanclub.se
SUMMARY:Familjeaktivitet Björkö Örn
DESCRIPTION:
URL:https://caravanclub.se/event/familjeaktivitet-bjorko-orn-3/
LOCATION:Caravan Club Björkö Örn\, Björkö Örns Camping\, Gräddö\, 71650\, Sweden
END:VEVENT
BEGIN:VEVENT
DTSTART;TZID=Europe/Stockholm:20260725T080000
DTEND;TZID=Europe/Stockholm:20260725T170000
DTSTAMP:20260419T231509
CREATED:20260220T100506Z
LAST-MODIFIED:20260419T095332Z
UID:10001150-1784966400-1784998800@caravanclub.se
SUMMARY:Familjehelg med lägereldskväll Björkö Örn
DESCRIPTION:
URL:https://caravanclub.se/event/familjehelg-bjorko-orn/
LOCATION:Caravan Club Björkö Örn\, Björkö Örns Camping\, Gräddö\, 71650\, Sweden
END:VEVENT
BEGIN:VEVENT
DTSTART;TZID=Europe/Stockholm:20260725T170000
DTEND;TZID=Europe/Stockholm:20260725T230000
DTSTAMP:20260419T231509
CREATED:20260330T132641Z
LAST-MODIFIED:20260330T132641Z
UID:10001199-1784998800-1785020400@caravanclub.se
SUMMARY:Räkfrossa knytkalas Storsved
DESCRIPTION:
URL:https://caravanclub.se/event/rakfrossa-knytkalas-storsved/
LOCATION:Caravan Club Storsved\, Kalvsviksvägen 22B\, Värmdö\, 13990\, Sweden
END:VEVENT
BEGIN:VEVENT
DTSTART;TZID=Europe/Stockholm:20260729T080000
DTEND;TZID=Europe/Stockholm:20260729T170000
DTSTAMP:20260419T231509
CREATED:20260220T100418Z
LAST-MODIFIED:20260220T100418Z
UID:10001149-1785312000-1785344400@caravanclub.se
SUMMARY:Familjeaktivitet Björkö Örn
DESCRIPTION:
URL:https://caravanclub.se/event/familjeaktivitet-bjorko-orn-4/
LOCATION:Caravan Club Björkö Örn\, Björkö Örns Camping\, Gräddö\, 71650\, Sweden
END:VEVENT
BEGIN:VEVENT
DTSTART;TZID=Europe/Stockholm:20260731T080000
DTEND;TZID=Europe/Stockholm:20260802T170000
DTSTAMP:20260419T231509
CREATED:20260216T180515Z
LAST-MODIFIED:20260216T180515Z
UID:10001135-1785484800-1785690000@caravanclub.se
SUMMARY:Rikstävling i Cornhole Kapellskär
DESCRIPTION:
URL:https://caravanclub.se/event/rikstavling-i-cornhole-kapellskar/
LOCATION:Caravan Club Kapellskär\, Myntarbyäng\, Gräddö\, 76015\, Sverige
ATTACH;FMTTYPE=application/pdf:https://caravanclub.se/content/uploads/inbjudan-cornhole.pdf
END:VEVENT
BEGIN:VEVENT
DTSTART;TZID=Europe/Stockholm:20260801T090000
DTEND;TZID=Europe/Stockholm:20260801T170000
DTSTAMP:20260419T231509
CREATED:20260330T132800Z
LAST-MODIFIED:20260330T132800Z
UID:10001200-1785574800-1785603600@caravanclub.se
SUMMARY:Familjedag Storsved
DESCRIPTION:Familjedag med fokus framförallt på barnen
URL:https://caravanclub.se/event/familjedag-storsved/
LOCATION:Caravan Club Storsved\, Kalvsviksvägen 22B\, Värmdö\, 13990\, Sweden
END:VEVENT
BEGIN:VEVENT
DTSTART;TZID=Europe/Stockholm:20260801T180000
DTEND;TZID=Europe/Stockholm:20260801T230000
DTSTAMP:20260419T231509
CREATED:20260220T100555Z
LAST-MODIFIED:20260220T100555Z
UID:10001151-1785607200-1785625200@caravanclub.se
SUMMARY:Artistkväll Björkö Örn
DESCRIPTION:
URL:https://caravanclub.se/event/artistkvall-bjorko-orn-2/
LOCATION:Caravan Club Björkö Örn\, Björkö Örns Camping\, Gräddö\, 71650\, Sweden
END:VEVENT
BEGIN:VEVENT
DTSTART;TZID=Europe/Stockholm:20260808T080000
DTEND;TZID=Europe/Stockholm:20260808T170000
DTSTAMP:20260419T231509
CREATED:20260220T100634Z
LAST-MODIFIED:20260220T100634Z
UID:10001152-1786176000-1786208400@caravanclub.se
SUMMARY:Beachvolleyturnering Björkö Örn
DESCRIPTION:
URL:https://caravanclub.se/event/beachvolleyturnering-bjorko-orn/
LOCATION:Caravan Club Björkö Örn\, Björkö Örns Camping\, Gräddö\, 71650\, Sweden
END:VEVENT
BEGIN:VEVENT
DTSTART;TZID=Europe/Stockholm:20260808T160000
DTEND;TZID=Europe/Stockholm:20260808T230000
DTSTAMP:20260419T231509
CREATED:20260216T172859Z
LAST-MODIFIED:20260216T172859Z
UID:10001128-1786204800-1786230000@caravanclub.se
SUMMARY:Kräftskiva Örstig
DESCRIPTION:Kräftskiva Örstig
URL:https://caravanclub.se/event/kraftskiva-orstig/
LOCATION:Caravan Club Örstig\, Örstigsleden\, Nyköping\, 61192\, Sweden
END:VEVENT
BEGIN:VEVENT
DTSTART;TZID=Europe/Stockholm:20260808T160000
DTEND;TZID=Europe/Stockholm:20260808T230000
DTSTAMP:20260419T231509
CREATED:20260216T181854Z
LAST-MODIFIED:20260216T181854Z
UID:10001138-1786204800-1786230000@caravanclub.se
SUMMARY:Kräftknytis Kapellskär
DESCRIPTION:
URL:https://caravanclub.se/event/kraftknytis-kapellskar/
LOCATION:Caravan Club Kapellskär\, Myntarbyäng\, Gräddö\, 76015\, Sverige
END:VEVENT
BEGIN:VEVENT
DTSTART;TZID=Europe/Stockholm:20260808T170000
DTEND;TZID=Europe/Stockholm:20260808T230000
DTSTAMP:20260419T231509
CREATED:20260330T132919Z
LAST-MODIFIED:20260330T132919Z
UID:10001201-1786208400-1786230000@caravanclub.se
SUMMARY:Kräftskiva knytis Storsved
DESCRIPTION:
URL:https://caravanclub.se/event/kraftskiva-knytis-storsved/
LOCATION:Caravan Club Storsved\, Kalvsviksvägen 22B\, Värmdö\, 13990\, Sweden
END:VEVENT
BEGIN:VEVENT
DTSTART;TZID=Europe/Stockholm:20260815T170000
DTEND;TZID=Europe/Stockholm:20260815T230000
DTSTAMP:20260419T231509
CREATED:20260312T082839Z
LAST-MODIFIED:20260312T082952Z
UID:10001173-1786813200-1786834800@caravanclub.se
SUMMARY:Kräftskiva Mista
DESCRIPTION:
URL:https://caravanclub.se/event/kraftskiva/
LOCATION:Caravan Club Mista\, Mista 1\, Vaxholm\, Vaxholm\, 18593\, Sweden
END:VEVENT
BEGIN:VEVENT
DTSTART;TZID=Europe/Stockholm:20260822T170000
DTEND;TZID=Europe/Stockholm:20260822T230000
DTSTAMP:20260419T231509
CREATED:20260216T173012Z
LAST-MODIFIED:20260216T173012Z
UID:10001129-1787418000-1787439600@caravanclub.se
SUMMARY:Sommarvärdspub Örstig
DESCRIPTION:Sommarvärdspub Örstig
URL:https://caravanclub.se/event/sommarvardspub-orstig/
LOCATION:Caravan Club Örstig\, Örstigsleden\, Nyköping\, 61192\, Sweden
END:VEVENT
BEGIN:VEVENT
DTSTART;TZID=Europe/Stockholm:20260822T170000
DTEND;TZID=Europe/Stockholm:20260822T230000
DTSTAMP:20260419T231509
CREATED:20260220T100722Z
LAST-MODIFIED:20260220T100722Z
UID:10001153-1787418000-1787439600@caravanclub.se
SUMMARY:Sommaravslutning restaurangen Björkö Örn
DESCRIPTION:
URL:https://caravanclub.se/event/sommaravslutning-restaurangen-bjorko-orn/
LOCATION:Caravan Club Björkö Örn\, Björkö Örns Camping\, Gräddö\, 71650\, Sweden
END:VEVENT
BEGIN:VEVENT
DTSTART;TZID=Europe/Stockholm:20260822T170000
DTEND;TZID=Europe/Stockholm:20260822T230000
DTSTAMP:20260419T231509
CREATED:20260312T083053Z
LAST-MODIFIED:20260312T083053Z
UID:10001174-1787418000-1787439600@caravanclub.se
SUMMARY:Surströmming Mista
DESCRIPTION:
URL:https://caravanclub.se/event/surstromming-mista/
LOCATION:Caravan Club Mista\, Mista 1\, Vaxholm\, Vaxholm\, 18593\, Sweden
END:VEVENT
BEGIN:VEVENT
DTSTART;TZID=Europe/Stockholm:20260822T170000
DTEND;TZID=Europe/Stockholm:20260822T230000
DTSTAMP:20260419T231509
CREATED:20260330T133044Z
LAST-MODIFIED:20260330T133044Z
UID:10001202-1787418000-1787439600@caravanclub.se
SUMMARY:Karaoke med bar Storsved
DESCRIPTION:
URL:https://caravanclub.se/event/karaoke-med-bar-storsved/
LOCATION:Caravan Club Storsved\, Kalvsviksvägen 22B\, Värmdö\, 13990\, Sweden
END:VEVENT
BEGIN:VEVENT
DTSTART;TZID=Europe/Stockholm:20260829T080000
DTEND;TZID=Europe/Stockholm:20260829T170000
DTSTAMP:20260419T231509
CREATED:20260116T130040Z
LAST-MODIFIED:20260116T130040Z
UID:10001067-1787990400-1788022800@caravanclub.se
SUMMARY:Säsongsavslutning Östnora
DESCRIPTION:
URL:https://caravanclub.se/event/sasongsavslutning-ostnora/
LOCATION:Östnora\, Östnoravägen 37\, Västerhaninge
END:VEVENT
BEGIN:VEVENT
DTSTART;TZID=Europe/Stockholm:20260829T160000
DTEND;TZID=Europe/Stockholm:20260829T233000
DTSTAMP:20260419T231509
CREATED:20260419T095536Z
LAST-MODIFIED:20260419T095536Z
UID:10001205-1788019200-1788046200@caravanclub.se
SUMMARY:Kräftskiva och Lysnatta Björkö Örn
DESCRIPTION:
URL:https://caravanclub.se/event/kraftskiva-och-lysnatta-bjorko-orn/
LOCATION:Caravan Club Björkö Örn\, Björkö Örns Camping\, Gräddö\, 71650\, Sweden
END:VEVENT
BEGIN:VEVENT
DTSTART;TZID=Europe/Stockholm:20260829T170000
DTEND;TZID=Europe/Stockholm:20260829T230000
DTSTAMP:20260419T231509
CREATED:20260312T083149Z
LAST-MODIFIED:20260312T083149Z
UID:10001175-1788022800-1788044400@caravanclub.se
SUMMARY:Lyskväll Mista
DESCRIPTION:
URL:https://caravanclub.se/event/lyskvall-mista/
LOCATION:Caravan Club Mista\, Mista 1\, Vaxholm\, Vaxholm\, 18593\, Sweden
END:VEVENT
BEGIN:VEVENT
DTSTART;TZID=Europe/Stockholm:20260829T180000
DTEND;TZID=Europe/Stockholm:20260829T230000
DTSTAMP:20260419T231509
CREATED:20260216T181946Z
LAST-MODIFIED:20260216T181946Z
UID:10001139-1788026400-1788044400@caravanclub.se
SUMMARY:Lysnatta Kapellskär
DESCRIPTION:
URL:https://caravanclub.se/event/lysnatta-kapellskar/
LOCATION:Caravan Club Kapellskär\, Myntarbyäng\, Gräddö\, 76015\, Sverige
END:VEVENT
END:VCALENDAR