BEGIN:VCALENDAR
VERSION:2.0
PRODID:-//Caravan Club of Sweden - ECPv6.15.17.1//NONSGML v1.0//EN
CALSCALE:GREGORIAN
METHOD:PUBLISH
X-ORIGINAL-URL:https://caravanclub.se
X-WR-CALDESC:Händelser för Caravan Club of Sweden
REFRESH-INTERVAL;VALUE=DURATION:PT1H
X-Robots-Tag:noindex
X-PUBLISHED-TTL:PT1H
BEGIN:VTIMEZONE
TZID:Europe/Stockholm
BEGIN:DAYLIGHT
TZOFFSETFROM:+0100
TZOFFSETTO:+0200
TZNAME:CEST
DTSTART:20250330T010000
END:DAYLIGHT
BEGIN:STANDARD
TZOFFSETFROM:+0200
TZOFFSETTO:+0100
TZNAME:CET
DTSTART:20251026T010000
END:STANDARD
BEGIN:DAYLIGHT
TZOFFSETFROM:+0100
TZOFFSETTO:+0200
TZNAME:CEST
DTSTART:20260329T010000
END:DAYLIGHT
BEGIN:STANDARD
TZOFFSETFROM:+0200
TZOFFSETTO:+0100
TZNAME:CET
DTSTART:20261025T010000
END:STANDARD
BEGIN:DAYLIGHT
TZOFFSETFROM:+0100
TZOFFSETTO:+0200
TZNAME:CEST
DTSTART:20270328T010000
END:DAYLIGHT
BEGIN:STANDARD
TZOFFSETFROM:+0200
TZOFFSETTO:+0100
TZNAME:CET
DTSTART:20271031T010000
END:STANDARD
END:VTIMEZONE
BEGIN:VEVENT
DTSTART;TZID=Europe/Stockholm:20260808T170000
DTEND;TZID=Europe/Stockholm:20260808T230000
DTSTAMP:20260420T021107
CREATED:20260330T132919Z
LAST-MODIFIED:20260330T132919Z
UID:10001201-1786208400-1786230000@caravanclub.se
SUMMARY:Kräftskiva knytis Storsved
DESCRIPTION:
URL:https://caravanclub.se/event/kraftskiva-knytis-storsved/
LOCATION:Caravan Club Storsved\, Kalvsviksvägen 22B\, Värmdö\, 13990\, Sweden
END:VEVENT
BEGIN:VEVENT
DTSTART;TZID=Europe/Stockholm:20260815T170000
DTEND;TZID=Europe/Stockholm:20260815T230000
DTSTAMP:20260420T021107
CREATED:20260312T082839Z
LAST-MODIFIED:20260312T082952Z
UID:10001173-1786813200-1786834800@caravanclub.se
SUMMARY:Kräftskiva Mista
DESCRIPTION:
URL:https://caravanclub.se/event/kraftskiva/
LOCATION:Caravan Club Mista\, Mista 1\, Vaxholm\, Vaxholm\, 18593\, Sweden
END:VEVENT
BEGIN:VEVENT
DTSTART;TZID=Europe/Stockholm:20260822T170000
DTEND;TZID=Europe/Stockholm:20260822T230000
DTSTAMP:20260420T021107
CREATED:20260216T173012Z
LAST-MODIFIED:20260216T173012Z
UID:10001129-1787418000-1787439600@caravanclub.se
SUMMARY:Sommarvärdspub Örstig
DESCRIPTION:Sommarvärdspub Örstig
URL:https://caravanclub.se/event/sommarvardspub-orstig/
LOCATION:Caravan Club Örstig\, Örstigsleden\, Nyköping\, 61192\, Sweden
END:VEVENT
BEGIN:VEVENT
DTSTART;TZID=Europe/Stockholm:20260822T170000
DTEND;TZID=Europe/Stockholm:20260822T230000
DTSTAMP:20260420T021107
CREATED:20260220T100722Z
LAST-MODIFIED:20260220T100722Z
UID:10001153-1787418000-1787439600@caravanclub.se
SUMMARY:Sommaravslutning restaurangen Björkö Örn
DESCRIPTION:
URL:https://caravanclub.se/event/sommaravslutning-restaurangen-bjorko-orn/
LOCATION:Caravan Club Björkö Örn\, Björkö Örns Camping\, Gräddö\, 71650\, Sweden
END:VEVENT
BEGIN:VEVENT
DTSTART;TZID=Europe/Stockholm:20260822T170000
DTEND;TZID=Europe/Stockholm:20260822T230000
DTSTAMP:20260420T021107
CREATED:20260312T083053Z
LAST-MODIFIED:20260312T083053Z
UID:10001174-1787418000-1787439600@caravanclub.se
SUMMARY:Surströmming Mista
DESCRIPTION:
URL:https://caravanclub.se/event/surstromming-mista/
LOCATION:Caravan Club Mista\, Mista 1\, Vaxholm\, Vaxholm\, 18593\, Sweden
END:VEVENT
BEGIN:VEVENT
DTSTART;TZID=Europe/Stockholm:20260822T170000
DTEND;TZID=Europe/Stockholm:20260822T230000
DTSTAMP:20260420T021107
CREATED:20260330T133044Z
LAST-MODIFIED:20260330T133044Z
UID:10001202-1787418000-1787439600@caravanclub.se
SUMMARY:Karaoke med bar Storsved
DESCRIPTION:
URL:https://caravanclub.se/event/karaoke-med-bar-storsved/
LOCATION:Caravan Club Storsved\, Kalvsviksvägen 22B\, Värmdö\, 13990\, Sweden
END:VEVENT
BEGIN:VEVENT
DTSTART;TZID=Europe/Stockholm:20260829T080000
DTEND;TZID=Europe/Stockholm:20260829T170000
DTSTAMP:20260420T021107
CREATED:20260116T130040Z
LAST-MODIFIED:20260116T130040Z
UID:10001067-1787990400-1788022800@caravanclub.se
SUMMARY:Säsongsavslutning Östnora
DESCRIPTION:
URL:https://caravanclub.se/event/sasongsavslutning-ostnora/
LOCATION:Östnora\, Östnoravägen 37\, Västerhaninge
END:VEVENT
BEGIN:VEVENT
DTSTART;TZID=Europe/Stockholm:20260829T160000
DTEND;TZID=Europe/Stockholm:20260829T233000
DTSTAMP:20260420T021107
CREATED:20260419T095536Z
LAST-MODIFIED:20260419T095536Z
UID:10001205-1788019200-1788046200@caravanclub.se
SUMMARY:Kräftskiva och Lysnatta Björkö Örn
DESCRIPTION:
URL:https://caravanclub.se/event/kraftskiva-och-lysnatta-bjorko-orn/
LOCATION:Caravan Club Björkö Örn\, Björkö Örns Camping\, Gräddö\, 71650\, Sweden
END:VEVENT
BEGIN:VEVENT
DTSTART;TZID=Europe/Stockholm:20260829T170000
DTEND;TZID=Europe/Stockholm:20260829T230000
DTSTAMP:20260420T021107
CREATED:20260312T083149Z
LAST-MODIFIED:20260312T083149Z
UID:10001175-1788022800-1788044400@caravanclub.se
SUMMARY:Lyskväll Mista
DESCRIPTION:
URL:https://caravanclub.se/event/lyskvall-mista/
LOCATION:Caravan Club Mista\, Mista 1\, Vaxholm\, Vaxholm\, 18593\, Sweden
END:VEVENT
BEGIN:VEVENT
DTSTART;TZID=Europe/Stockholm:20260829T180000
DTEND;TZID=Europe/Stockholm:20260829T230000
DTSTAMP:20260420T021107
CREATED:20260216T181946Z
LAST-MODIFIED:20260216T181946Z
UID:10001139-1788026400-1788044400@caravanclub.se
SUMMARY:Lysnatta Kapellskär
DESCRIPTION:
URL:https://caravanclub.se/event/lysnatta-kapellskar/
LOCATION:Caravan Club Kapellskär\, Myntarbyäng\, Gräddö\, 76015\, Sverige
END:VEVENT
BEGIN:VEVENT
DTSTART;TZID=Europe/Stockholm:20260905T080000
DTEND;TZID=Europe/Stockholm:20260905T170000
DTSTAMP:20260420T021107
CREATED:20260216T173114Z
LAST-MODIFIED:20260414T173121Z
UID:10001130-1788595200-1788627600@caravanclub.se
SUMMARY:35-årsfirande av Örstig camping med familjedag
DESCRIPTION:Stor familjedag och senare på kvällen är puben är öppen. Mera info kommer!
URL:https://caravanclub.se/event/35-arsfirande-av-orstig-camping/
LOCATION:Caravan Club Örstig\, Örstigsleden\, Nyköping\, 61192\, Sweden
END:VEVENT
BEGIN:VEVENT
DTSTART;TZID=Europe/Stockholm:20260912T180000
DTEND;TZID=Europe/Stockholm:20260912T230000
DTSTAMP:20260420T021107
CREATED:20260419T095633Z
LAST-MODIFIED:20260419T095633Z
UID:10001206-1789236000-1789254000@caravanclub.se
SUMMARY:Soppkväll Björkö Örn
DESCRIPTION:
URL:https://caravanclub.se/event/soppkvall-bjorko-orn/
LOCATION:Caravan Club Björkö Örn\, Björkö Örns Camping\, Gräddö\, 71650\, Sweden
END:VEVENT
BEGIN:VEVENT
DTSTART;TZID=Europe/Stockholm:20260919T150000
DTEND;TZID=Europe/Stockholm:20260919T230000
DTSTAMP:20260420T021107
CREATED:20260330T133311Z
LAST-MODIFIED:20260330T133311Z
UID:10001203-1789830000-1789858800@caravanclub.se
SUMMARY:Oktoberfest Storsved
DESCRIPTION:Oktoberfest med bar till kvällen
URL:https://caravanclub.se/event/oktoberfest-storsved/
LOCATION:Caravan Club Storsved\, Kalvsviksvägen 22B\, Värmdö\, 13990\, Sweden
END:VEVENT
BEGIN:VEVENT
DTSTART;TZID=Europe/Stockholm:20260925T150000
DTEND;TZID=Europe/Stockholm:20260926T230000
DTSTAMP:20260420T021107
CREATED:20260220T100903Z
LAST-MODIFIED:20260220T100903Z
UID:10001155-1790348400-1790463600@caravanclub.se
SUMMARY:Oktoberfest Björkö Örn
DESCRIPTION:
URL:https://caravanclub.se/event/oktoberfest-bjorko-orn/
LOCATION:Caravan Club Björkö Örn\, Björkö Örns Camping\, Gräddö\, 71650\, Sweden
END:VEVENT
BEGIN:VEVENT
DTSTART;TZID=Europe/Stockholm:20260926T160000
DTEND;TZID=Europe/Stockholm:20260926T230000
DTSTAMP:20260420T021107
CREATED:20260116T130136Z
LAST-MODIFIED:20260116T130136Z
UID:10001068-1790438400-1790463600@caravanclub.se
SUMMARY:Oktoberfest Östnora
DESCRIPTION:
URL:https://caravanclub.se/event/oktoberfest-ostnora/
LOCATION:Östnora\, Östnoravägen 37\, Västerhaninge
END:VEVENT
BEGIN:VEVENT
DTSTART;TZID=Europe/Stockholm:20260926T170000
DTEND;TZID=Europe/Stockholm:20260926T230000
DTSTAMP:20260420T021107
CREATED:20260216T173213Z
LAST-MODIFIED:20260216T173213Z
UID:10001131-1790442000-1790463600@caravanclub.se
SUMMARY:Oktoberfest Örstig
DESCRIPTION:Oktoberfest
URL:https://caravanclub.se/event/oktoberfest-orstig/
LOCATION:Caravan Club Örstig\, Örstigsleden\, Nyköping\, 61192\, Sweden
END:VEVENT
BEGIN:VEVENT
DTSTART;TZID=Europe/Stockholm:20261031T080000
DTEND;TZID=Europe/Stockholm:20261031T170000
DTSTAMP:20260420T021107
CREATED:20260116T130227Z
LAST-MODIFIED:20260116T130227Z
UID:10001069-1793433600-1793466000@caravanclub.se
SUMMARY:Halloweenfirande Östnora
DESCRIPTION:
URL:https://caravanclub.se/event/halloweenfirande-ostnora/
LOCATION:Östnora\, Östnoravägen 37\, Västerhaninge
END:VEVENT
BEGIN:VEVENT
DTSTART;TZID=Europe/Stockholm:20261031T160000
DTEND;TZID=Europe/Stockholm:20261031T233000
DTSTAMP:20260420T021107
CREATED:20260419T095802Z
LAST-MODIFIED:20260419T095802Z
UID:10001207-1793462400-1793489400@caravanclub.se
SUMMARY:Halloween Björkö Örn
DESCRIPTION:
URL:https://caravanclub.se/event/halloween-bjorko-orn/
LOCATION:Caravan Club Björkö Örn\, Björkö Örns Camping\, Gräddö\, 71650\, Sweden
END:VEVENT
BEGIN:VEVENT
DTSTART;TZID=Europe/Stockholm:20261212T120000
DTEND;TZID=Europe/Stockholm:20261212T170000
DTSTAMP:20260420T021107
CREATED:20260116T130319Z
LAST-MODIFIED:20260116T130319Z
UID:10001070-1797076800-1797094800@caravanclub.se
SUMMARY:Julbord Östnora
DESCRIPTION:
URL:https://caravanclub.se/event/julbord-ostnora/
LOCATION:Östnora\, Östnoravägen 37\, Västerhaninge
END:VEVENT
END:VCALENDAR