BEGIN:VCALENDAR
VERSION:2.0
PRODID:-//Caravan Club of Sweden - ECPv6.15.17.1//NONSGML v1.0//EN
CALSCALE:GREGORIAN
METHOD:PUBLISH
X-WR-CALNAME:Caravan Club of Sweden
X-ORIGINAL-URL:https://caravanclub.se
X-WR-CALDESC:Händelser för Caravan Club of Sweden
REFRESH-INTERVAL;VALUE=DURATION:PT1H
X-Robots-Tag:noindex
X-PUBLISHED-TTL:PT1H
BEGIN:VTIMEZONE
TZID:Europe/Stockholm
BEGIN:DAYLIGHT
TZOFFSETFROM:+0100
TZOFFSETTO:+0200
TZNAME:CEST
DTSTART:20250330T010000
END:DAYLIGHT
BEGIN:STANDARD
TZOFFSETFROM:+0200
TZOFFSETTO:+0100
TZNAME:CET
DTSTART:20251026T010000
END:STANDARD
BEGIN:DAYLIGHT
TZOFFSETFROM:+0100
TZOFFSETTO:+0200
TZNAME:CEST
DTSTART:20260329T010000
END:DAYLIGHT
BEGIN:STANDARD
TZOFFSETFROM:+0200
TZOFFSETTO:+0100
TZNAME:CET
DTSTART:20261025T010000
END:STANDARD
BEGIN:DAYLIGHT
TZOFFSETFROM:+0100
TZOFFSETTO:+0200
TZNAME:CEST
DTSTART:20270328T010000
END:DAYLIGHT
BEGIN:STANDARD
TZOFFSETFROM:+0200
TZOFFSETTO:+0100
TZNAME:CET
DTSTART:20271031T010000
END:STANDARD
END:VTIMEZONE
BEGIN:VEVENT
DTSTART;TZID=Europe/Stockholm:20260605T120000
DTEND;TZID=Europe/Stockholm:20260607T120000
DTSTAMP:20260420T001913
CREATED:20260313T102012Z
LAST-MODIFIED:20260313T102012Z
UID:10001177-1780660800-1780833600@caravanclub.se
SUMMARY:Sommarträff
DESCRIPTION:SOMMARTRÄFF 2026\nTräffansvarig: Anders Spets
URL:https://caravanclub.se/event/sommartraff/
LOCATION:Grand Arctic Resort – Överkalix Camping\, Bulandsgatan 6\, Överkalix\, 956 31\, Sweden
ATTACH;FMTTYPE=image/jpeg:https://caravanclub.se/content/uploads/Grand-Arctic-Resort.jpg
END:VEVENT
BEGIN:VEVENT
DTSTART;TZID=Europe/Stockholm:20260606T000000
DTEND;TZID=Europe/Stockholm:20260606T000000
DTSTAMP:20260420T001913
CREATED:20260319T110712Z
LAST-MODIFIED:20260319T113533Z
UID:10001182-1780704000-1780704000@caravanclub.se
SUMMARY:Nationaldagsfirande / Trivselkväll i Norberg
DESCRIPTION:Med reservation för tillägg eller ändringar. \nVi uppdaterar på hemsidan\, Facebook och anslagstavlan på Norbergs Camping.
URL:https://caravanclub.se/event/nationaldagsfirande-trivselkvall/
LOCATION:Norbergs Camping\, Fraggvägen 1\, Norberg\, 738 31
END:VEVENT
BEGIN:VEVENT
DTSTART;VALUE=DATE:20260606
DTEND;VALUE=DATE:20260608
DTSTAMP:20260420T001913
CREATED:20260303T160341Z
LAST-MODIFIED:20260303T161155Z
UID:10001164-1780704000-1780876799@caravanclub.se
SUMMARY:Sommaraktivitet för barn och ungdomar
DESCRIPTION:
URL:https://caravanclub.se/event/128724/
LOCATION:Caravan Club Tisarstrand\, Kvarsätter\, Hallsberg\, 694 92\, Sweden
ATTACH;FMTTYPE=image/png:https://caravanclub.se/content/uploads/Barn-och-ungdomsaktivitet-2026.png
END:VEVENT
BEGIN:VEVENT
DTSTART;TZID=Europe/Stockholm:20260606T080000
DTEND;TZID=Europe/Stockholm:20260606T170000
DTSTAMP:20260420T001913
CREATED:20260116T125722Z
LAST-MODIFIED:20260116T125722Z
UID:10001064-1780732800-1780765200@caravanclub.se
SUMMARY:Nationaldagsfirande Östnora
DESCRIPTION:
URL:https://caravanclub.se/event/nationaldagsfirande-ostnora/
LOCATION:Östnora\, Östnoravägen 37\, Västerhaninge
END:VEVENT
BEGIN:VEVENT
DTSTART;TZID=Europe/Stockholm:20260606T080000
DTEND;TZID=Europe/Stockholm:20260606T170000
DTSTAMP:20260420T001913
CREATED:20260225T103317Z
LAST-MODIFIED:20260309T093452Z
UID:10001160-1780732800-1780765200@caravanclub.se
SUMMARY:Familjedag och Nationaldagsfirande Storsved
DESCRIPTION:
URL:https://caravanclub.se/event/familjedag-och-nationaldagsfirande-storsved/
LOCATION:Caravan Club Storsved\, Kalvsviksvägen 22B\, Värmdö\, 13990\, Sweden
ATTACH;FMTTYPE=image/jpeg:https://caravanclub.se/content/uploads/nationaldagen-1.jpg
END:VEVENT
BEGIN:VEVENT
DTSTART;TZID=Europe/Stockholm:20260606T110000
DTEND;TZID=Europe/Stockholm:20260606T120000
DTSTAMP:20260420T001913
CREATED:20260209T094333Z
LAST-MODIFIED:20260209T094333Z
UID:10001110-1780743600-1780747200@caravanclub.se
SUMMARY:Manöverkörning CC Småland- Timmernabben
DESCRIPTION:Manöverkörning 2026\nVarje säsong hålls manöverkörning under handledning\, där deltagarna genomför en bana med fyra moment: slalom\, vändning\, rak backning och fickparkering. Banan är anpassad för både husvagnar och husbilar. Dessutom avgörs en tävling om vilken sektion som tar flest märken procentuellt. \nTillfälle\nTimmernabben – 6 juni\nTid ej fastslaget.
URL:https://caravanclub.se/event/manoverkorning-cc-smaland-timmernabben/
LOCATION:Duab-huset\, Mönsterås\, Södra vägen 3\, Mönsterås\, 38334\, Sverige
ATTACH;FMTTYPE=image/jpeg:https://caravanclub.se/content/uploads/image00011.jpeg
END:VEVENT
BEGIN:VEVENT
DTSTART;TZID=Europe/Stockholm:20260606T110000
DTEND;TZID=Europe/Stockholm:20260606T170000
DTSTAMP:20260420T001913
CREATED:20260216T181716Z
LAST-MODIFIED:20260409T134529Z
UID:10001136-1780743600-1780765200@caravanclub.se
SUMMARY:Loppis och Nationaldagsfirande Kapellskär
DESCRIPTION:
URL:https://caravanclub.se/event/loppis-kapellskar/
LOCATION:Caravan Club Kapellskär\, Myntarbyäng\, Gräddö\, 76015\, Sverige
END:VEVENT
BEGIN:VEVENT
DTSTART;TZID=Europe/Stockholm:20260606T120000
DTEND;TZID=Europe/Stockholm:20260606T140000
DTSTAMP:20260420T001913
CREATED:20260224T172317Z
LAST-MODIFIED:20260224T172317Z
UID:10001156-1780747200-1780754400@caravanclub.se
SUMMARY:Loppis Mista
DESCRIPTION:
URL:https://caravanclub.se/event/loppis-mista/
LOCATION:Caravan Club Mista\, Mista 1\, Vaxholm\, Vaxholm\, 18593\, Sweden
ATTACH;FMTTYPE=application/pdf:https://caravanclub.se/content/uploads/Loppis-Mista.pdf
END:VEVENT
BEGIN:VEVENT
DTSTART;TZID=Europe/Stockholm:20260606T140000
DTEND;TZID=Europe/Stockholm:20260606T150000
DTSTAMP:20260420T001913
CREATED:20260126T175252Z
LAST-MODIFIED:20260205T092114Z
UID:10001085-1780754400-1780758000@caravanclub.se
SUMMARY:Nationaldagsfika både på Borensäng och Sandvik
DESCRIPTION:  \nSveriges nationaldag då serveras det en fika på båda våra campingar Borensäng och Sandvik.\nVälkomna!\n 
URL:https://caravanclub.se/event/nationaldagsfika-bade-pa-borensang-och-sandvik/
LOCATION:Caravan Club Östgöta\, Bergsvägen 30\, Borensberg\, 59031\, Sverige
ATTACH;FMTTYPE=image/jpeg:https://caravanclub.se/content/uploads/svenska-flaggan.jpg
END:VEVENT
BEGIN:VEVENT
DTSTART;TZID=Europe/Stockholm:20260606T140000
DTEND;TZID=Europe/Stockholm:20260606T150000
DTSTAMP:20260420T001913
CREATED:20260224T172436Z
LAST-MODIFIED:20260224T172436Z
UID:10001157-1780754400-1780758000@caravanclub.se
SUMMARY:Nationaldagsfika Mista
DESCRIPTION:
URL:https://caravanclub.se/event/nationaldagsfika-mista/
LOCATION:Caravan Club Mista\, Mista 1\, Vaxholm\, Vaxholm\, 18593\, Sweden
ATTACH;FMTTYPE=application/pdf:https://caravanclub.se/content/uploads/Nationaldagsfika_2026.pdf
END:VEVENT
BEGIN:VEVENT
DTSTART;TZID=Europe/Stockholm:20260606T170000
DTEND;TZID=Europe/Stockholm:20260606T230000
DTSTAMP:20260420T001913
CREATED:20260216T172611Z
LAST-MODIFIED:20260216T172611Z
UID:10001125-1780765200-1780786800@caravanclub.se
SUMMARY:Nationaldagspub Örstig
DESCRIPTION:Fira Nationaldagen på Örstig. Puben håller öppet
URL:https://caravanclub.se/event/nationaldagspub-orstig/
LOCATION:Caravan Club Örstig\, Örstigsleden\, Nyköping\, 61192\, Sweden
END:VEVENT
BEGIN:VEVENT
DTSTART;TZID=Europe/Stockholm:20260612T190000
DTEND;TZID=Europe/Stockholm:20260613T180000
DTSTAMP:20260420T001913
CREATED:20260302T193427Z
LAST-MODIFIED:20260302T193427Z
UID:10001163-1781290800-1781373600@caravanclub.se
SUMMARY:Vätternrundan
DESCRIPTION:Vätternrundan världens största cykelmotionslopp start och mål i Motala.
URL:https://caravanclub.se/event/vatternrundan/
LOCATION:Motala\, Bangårdsgatan 3\, Motala\, 59121\, Sverige
ATTACH;FMTTYPE=image/jpeg:https://caravanclub.se/content/uploads/vatternrundan-1.jpg
ORGANIZER;CN="vatternrundan":MAILTO:info@vatternrundan.se
END:VEVENT
BEGIN:VEVENT
DTSTART;TZID=Europe/Stockholm:20260613T000000
DTEND;TZID=Europe/Stockholm:20260613T000000
DTSTAMP:20260420T001913
CREATED:20260319T110858Z
LAST-MODIFIED:20260319T113645Z
UID:10001183-1781308800-1781308800@caravanclub.se
SUMMARY:Tacofest i Norberg ( se senare separat inbjudan)
DESCRIPTION:Med reservation för tillägg eller ändringar. \nVi uppdaterar på hemsidan\, Facebook och anslagstavlan på Norbergs Camping.
URL:https://caravanclub.se/event/tacofest-se-senare-separat-inbjudan/
LOCATION:Norbergs Camping\, Fraggvägen 1\, Norberg\, 738 31
END:VEVENT
BEGIN:VEVENT
DTSTART;TZID=Europe/Stockholm:20260618T000000
DTEND;TZID=Europe/Stockholm:20260618T000000
DTSTAMP:20260420T001913
CREATED:20260319T111228Z
LAST-MODIFIED:20260319T111228Z
UID:10001184-1781740800-1781740800@caravanclub.se
SUMMARY:Trivselkväll i Kultrycket
DESCRIPTION:Med reservation för tillägg eller ändringar. \nVi uppdaterar på hemsidan\, Facebook och anslagstavlan på Norbergs Camping.
URL:https://caravanclub.se/event/trivselkvall-i-kultrycket-4/
LOCATION:Norbergs Camping\, Fraggvägen 1\, Norberg\, 738 31
END:VEVENT
BEGIN:VEVENT
DTSTART;TZID=Europe/Stockholm:20260618T080000
DTEND;TZID=Europe/Stockholm:20260621T170000
DTSTAMP:20260420T001913
CREATED:20260216T180140Z
LAST-MODIFIED:20260216T180140Z
UID:10001134-1781769600-1782061200@caravanclub.se
SUMMARY:Midsommarfirande Kapellskär
DESCRIPTION:
URL:https://caravanclub.se/event/midsommarfirande-kapellskar/
LOCATION:Caravan Club Kapellskär\, Myntarbyäng\, Gräddö\, 76015\, Sverige
ATTACH;FMTTYPE=application/pdf:https://caravanclub.se/content/uploads/Fira-midsommar-med-oss-pa-Kapellskar.pdf
END:VEVENT
BEGIN:VEVENT
DTSTART;TZID=Europe/Stockholm:20260618T080000
DTEND;TZID=Europe/Stockholm:20260621T170000
DTSTAMP:20260420T001913
CREATED:20260217T084533Z
LAST-MODIFIED:20260217T084533Z
UID:10001143-1781769600-1782061200@caravanclub.se
SUMMARY:Midsommarfirande Björkö Örn
DESCRIPTION:
URL:https://caravanclub.se/event/midsommarfirande-bjorko-orn/
LOCATION:Caravan Club Björkö Örn\, Björkö Örns Camping\, Gräddö\, 71650\, Sweden
END:VEVENT
BEGIN:VEVENT
DTSTART;TZID=Europe/Stockholm:20260618T180000
DTEND;TZID=Europe/Stockholm:20260618T200000
DTSTAMP:20260420T001913
CREATED:20260126T175738Z
LAST-MODIFIED:20260205T092604Z
UID:10001086-1781805600-1781812800@caravanclub.se
SUMMARY:Dags att klä midsommarstången på Sandvik
DESCRIPTION:Välkomna!
URL:https://caravanclub.se/event/dags-att-kla-midsommarstangen-pa-sandvik/
LOCATION:Sandvik\, Sandvik\, Vreta Kloster\, 59078\, Sverige
ATTACH;FMTTYPE=image/jpeg:https://caravanclub.se/content/uploads/midsommarstang-1.jpg
END:VEVENT
BEGIN:VEVENT
DTSTART;TZID=Europe/Stockholm:20260619T000000
DTEND;TZID=Europe/Stockholm:20260619T000000
DTSTAMP:20260420T001913
CREATED:20260319T111444Z
LAST-MODIFIED:20260319T113812Z
UID:10001185-1781827200-1781827200@caravanclub.se
SUMMARY:Midsommarfirande på Norbergs Camping
DESCRIPTION:Med reservation för tillägg eller ändringar. \nVi uppdaterar på hemsidan\, Facebook och anslagstavlan på Norbergs Camping.
URL:https://caravanclub.se/event/midsommarfirande/
LOCATION:Norbergs Camping\, Fraggvägen 1\, Norberg\, 738 31
END:VEVENT
BEGIN:VEVENT
DTSTART;TZID=Europe/Stockholm:20260619T000000
DTEND;TZID=Europe/Stockholm:20260619T000000
DTSTAMP:20260420T001913
CREATED:20260319T111628Z
LAST-MODIFIED:20260319T111628Z
UID:10001186-1781827200-1781827200@caravanclub.se
SUMMARY:Trivselkväll i Kultrycket
DESCRIPTION:Med reservation för tillägg eller ändringar. \nVi uppdaterar på hemsidan\, Facebook och anslagstavlan på Norbergs Camping.
URL:https://caravanclub.se/event/trivselkvall-i-kultrycket-5/
LOCATION:Norbergs Camping\, Fraggvägen 1\, Norberg\, 738 31
END:VEVENT
BEGIN:VEVENT
DTSTART;TZID=Europe/Stockholm:20260619T080000
DTEND;TZID=Europe/Stockholm:20260621T170000
DTSTAMP:20260420T001913
CREATED:20260116T125810Z
LAST-MODIFIED:20260116T125810Z
UID:10001065-1781856000-1782061200@caravanclub.se
SUMMARY:Midsommarfirande Östnora
DESCRIPTION:
URL:https://caravanclub.se/event/midsommarfirande-ostnora/
LOCATION:Östnora\, Östnoravägen 37\, Västerhaninge
END:VEVENT
BEGIN:VEVENT
DTSTART;TZID=Europe/Stockholm:20260619T080000
DTEND;TZID=Europe/Stockholm:20260622T170000
DTSTAMP:20260420T001913
CREATED:20260216T172716Z
LAST-MODIFIED:20260414T163520Z
UID:10001126-1781856000-1782147600@caravanclub.se
SUMMARY:Midsommar på Örstig
DESCRIPTION:Traditionellt midsommarfirande hela helgen!
URL:https://caravanclub.se/event/midsommar-pa-orstig/
LOCATION:Caravan Club Örstig\, Örstigsleden\, Nyköping\, 61192\, Sweden
END:VEVENT
BEGIN:VEVENT
DTSTART;TZID=Europe/Stockholm:20260619T090000
DTEND;TZID=Europe/Stockholm:20260620T230000
DTSTAMP:20260420T001913
CREATED:20260225T103358Z
LAST-MODIFIED:20260330T132323Z
UID:10001161-1781859600-1781996400@caravanclub.se
SUMMARY:Midsommarfirande Storsved
DESCRIPTION:Traditionellt Midsommarfirande på midsommarafton samt 5-kamp på midsommardagen
URL:https://caravanclub.se/event/midsommarfirande-storsved/
LOCATION:Caravan Club Storsved\, Kalvsviksvägen 22B\, Värmdö\, 13990\, Sweden
END:VEVENT
BEGIN:VEVENT
DTSTART;TZID=Europe/Stockholm:20260619T100000
DTEND;TZID=Europe/Stockholm:20260621T170000
DTSTAMP:20260420T001913
CREATED:20260126T180950Z
LAST-MODIFIED:20260205T092300Z
UID:10001087-1781863200-1782061200@caravanclub.se
SUMMARY:Midsommarfirande på Borensäng och Sandvik
DESCRIPTION:  \nNu är det dags för midsommarfirande på våra campingar Borensäng och Sandvik\n Information vad som händer dessa dagar kommer finnas på resp camping samt våra fb sidor.\nVälkomna att fira midsommar hos oss i Östergötland
URL:https://caravanclub.se/event/midsommarfirande-pa-borensang-och-sandvik/
LOCATION:Caravan Club Östgöta\, Bergsvägen 30\, Borensberg\, 59031\, Sverige
ATTACH;FMTTYPE=image/jpeg:https://caravanclub.se/content/uploads/midsommarstang-1.jpg
END:VEVENT
BEGIN:VEVENT
DTSTART;TZID=Europe/Stockholm:20260620T000000
DTEND;TZID=Europe/Stockholm:20260620T000000
DTSTAMP:20260420T001913
CREATED:20260319T111758Z
LAST-MODIFIED:20260319T113856Z
UID:10001187-1781913600-1781913600@caravanclub.se
SUMMARY:Satmaran i Norberg (Tipspromenad runt sjön Noren)
DESCRIPTION:Med reservation för tillägg eller ändringar. \nVi uppdaterar på hemsidan\, Facebook och anslagstavlan på Norbergs Camping.
URL:https://caravanclub.se/event/satmaran-tipspromenad-runt-sjon-noren/
LOCATION:Norbergs Camping\, Fraggvägen 1\, Norberg\, 738 31
END:VEVENT
BEGIN:VEVENT
DTSTART;TZID=Europe/Stockholm:20260620T110000
DTEND;TZID=Europe/Stockholm:20260620T170000
DTSTAMP:20260420T001913
CREATED:20260126T182101Z
LAST-MODIFIED:20260205T092444Z
UID:10001088-1781953200-1781974800@caravanclub.se
SUMMARY:Varpa tävling på Borensäng
DESCRIPTION:  \nMidsommardagen kör vi tävling i varpa här på Borensäng\nVilket alla är välkomna att delta i. Så har ni en varpa så glöm inte plocka med den till midsommar.\nTider mm kommer finnas på anslag på campingen.
URL:https://caravanclub.se/event/varpa-tavling-pa-borensang/
LOCATION:Borensäng\, Bergsvägen 30\, Borensberg\, 59031\, Sverige
ATTACH;FMTTYPE=image/jpeg:https://caravanclub.se/content/uploads/varpa.jpg
END:VEVENT
BEGIN:VEVENT
DTSTART;TZID=Europe/Stockholm:20260627T180000
DTEND;TZID=Europe/Stockholm:20260627T230000
DTSTAMP:20260420T001913
CREATED:20251218T120816Z
LAST-MODIFIED:20251218T120816Z
UID:10001055-1782583200-1782601200@caravanclub.se
SUMMARY:Artistkväll - Björkö Örn
DESCRIPTION:Boka redan nu för en häftig sommarkväll med bra artister. \nMera information kommer närmare
URL:https://caravanclub.se/event/artistkvall-bjorko-orn/
LOCATION:Caravan Club Björkö Örn\, Björkö Örns Camping\, Gräddö\, 71650\, Sweden
END:VEVENT
BEGIN:VEVENT
DTSTART;TZID=Europe/Stockholm:20260703T120000
DTEND;TZID=Europe/Stockholm:20260704T120000
DTSTAMP:20260420T001913
CREATED:20251222T105816Z
LAST-MODIFIED:20260120T153626Z
UID:10001056-1783080000-1783166400@caravanclub.se
SUMMARY:Stockholmssektionens sommarträff i Nybro
DESCRIPTION:En träff för CC-medlemmar som är i närheten av Nybro den här tiden. \nVi träffas kl. 12.00 fredag 3/7 på James Bond museet i Nybro. Det är det enda 007-museet i världen. \nVi besöker museet på fredag em.\nAvgiften för den här träffen är 600:- för ställplats och inträde för 2 personer till museet.\nFör de som vill ha 5-kamp på museet kostar det 75:-/person. 1 glas Bollinger 75:-/person och Dry Martini 152:-/person.\nVi grillar vår egen mat gemensamt på fredag kväll och träffen avslutas på lördag 4/7 kl. 12.00\nMax antal ekipage till träffen är 40 st. \nAnmälan till Hans Östman:\nhans.ostman@cc-camping.se\nMobil: 0736571989
URL:https://caravanclub.se/event/stockholmssektionens-sommartraff-i-nybro-3-4-7/
LOCATION:Nybro\, Emmabodavägen 20\, Nybro\, 38445\, Sweden
END:VEVENT
BEGIN:VEVENT
DTSTART;TZID=Europe/Stockholm:20260704T000000
DTEND;TZID=Europe/Stockholm:20260704T000000
DTSTAMP:20260420T001913
CREATED:20260319T112006Z
LAST-MODIFIED:20260319T112006Z
UID:10001188-1783123200-1783123200@caravanclub.se
SUMMARY:Trivselkväll i Kultrycket med 50 - 70 tals musik
DESCRIPTION:Med reservation för tillägg eller ändringar. \nVi uppdaterar på hemsidan\, Facebook och anslagstavlan på Norbergs Camping.
URL:https://caravanclub.se/event/trivselkvall-i-kultrycket-med-50-70-tals-musik/
LOCATION:Norbergs Camping\, Fraggvägen 1\, Norberg\, 738 31
END:VEVENT
BEGIN:VEVENT
DTSTART;TZID=Europe/Stockholm:20260704T160000
DTEND;TZID=Europe/Stockholm:20260704T230000
DTSTAMP:20260420T001913
CREATED:20260216T172802Z
LAST-MODIFIED:20260216T172802Z
UID:10001127-1783180800-1783206000@caravanclub.se
SUMMARY:Grillfest Örstig
DESCRIPTION:Grillfest Örstig
URL:https://caravanclub.se/event/grillfest-orstig/
LOCATION:Caravan Club Örstig\, Örstigsleden\, Nyköping\, 61192\, Sweden
END:VEVENT
BEGIN:VEVENT
DTSTART;TZID=Europe/Stockholm:20260704T160000
DTEND;TZID=Europe/Stockholm:20260704T230000
DTSTAMP:20260420T001913
CREATED:20260330T132503Z
LAST-MODIFIED:20260330T132503Z
UID:10001198-1783180800-1783206000@caravanclub.se
SUMMARY:Trubadurkväll med pub Storsved
DESCRIPTION:
URL:https://caravanclub.se/event/trubadurkvall-med-pub-storsved/
LOCATION:Caravan Club Storsved\, Kalvsviksvägen 22B\, Värmdö\, 13990\, Sweden
END:VEVENT
END:VCALENDAR