BEGIN:VCALENDAR
VERSION:2.0
PRODID:-//Caravan Club of Sweden - ECPv6.15.17.1//NONSGML v1.0//EN
CALSCALE:GREGORIAN
METHOD:PUBLISH
X-ORIGINAL-URL:https://caravanclub.se
X-WR-CALDESC:Händelser för Caravan Club of Sweden
REFRESH-INTERVAL;VALUE=DURATION:PT1H
X-Robots-Tag:noindex
X-PUBLISHED-TTL:PT1H
BEGIN:VTIMEZONE
TZID:Europe/Stockholm
BEGIN:DAYLIGHT
TZOFFSETFROM:+0100
TZOFFSETTO:+0200
TZNAME:CEST
DTSTART:20250330T010000
END:DAYLIGHT
BEGIN:STANDARD
TZOFFSETFROM:+0200
TZOFFSETTO:+0100
TZNAME:CET
DTSTART:20251026T010000
END:STANDARD
BEGIN:DAYLIGHT
TZOFFSETFROM:+0100
TZOFFSETTO:+0200
TZNAME:CEST
DTSTART:20260329T010000
END:DAYLIGHT
BEGIN:STANDARD
TZOFFSETFROM:+0200
TZOFFSETTO:+0100
TZNAME:CET
DTSTART:20261025T010000
END:STANDARD
BEGIN:DAYLIGHT
TZOFFSETFROM:+0100
TZOFFSETTO:+0200
TZNAME:CEST
DTSTART:20270328T010000
END:DAYLIGHT
BEGIN:STANDARD
TZOFFSETFROM:+0200
TZOFFSETTO:+0100
TZNAME:CET
DTSTART:20271031T010000
END:STANDARD
END:VTIMEZONE
BEGIN:VEVENT
DTSTART;TZID=Europe/Stockholm:20260124T180000
DTEND;TZID=Europe/Stockholm:20260124T233000
DTSTAMP:20260420T044215
CREATED:20251218T120352Z
LAST-MODIFIED:20251218T120352Z
UID:10001052-1769277600-1769297400@caravanclub.se
SUMMARY:Karaokekväll – Björkö Örn
DESCRIPTION:Varmt välkomna till en festligt kväll!
URL:https://caravanclub.se/event/karaokekvall-bjorko-orn/
LOCATION:Caravan Club Björkö Örn\, Björkö Örns Camping\, Gräddö\, 71650\, Sweden
END:VEVENT
BEGIN:VEVENT
DTSTART;TZID=Europe/Stockholm:20260131T080000
DTEND;TZID=Europe/Stockholm:20260131T170000
DTSTAMP:20260420T044215
CREATED:20251023T111019Z
LAST-MODIFIED:20251023T111019Z
UID:10001022-1769846400-1769878800@caravanclub.se
SUMMARY:Quiz Kapellskär
DESCRIPTION:
URL:https://caravanclub.se/event/quiz-kapellskar/
LOCATION:Caravan Club Kapellskär\, Myntarbyäng\, Gräddö\, 76015\, Sverige
END:VEVENT
BEGIN:VEVENT
DTSTART;TZID=Europe/Stockholm:20260131T080000
DTEND;TZID=Europe/Stockholm:20260131T170000
DTSTAMP:20260420T044215
CREATED:20260106T112345Z
LAST-MODIFIED:20260106T112345Z
UID:10001058-1769846400-1769878800@caravanclub.se
SUMMARY:Tovning på CC Timmernabben
DESCRIPTION:Häng med och testa tovning på Timmernabben den 31 januari. Allt till självkostnadspris. \nTid ej fastsläget
URL:https://caravanclub.se/event/tovning-pa-cc-timmernabben/
LOCATION:Caravan Club Timmernabben\, Varvsvägen 29\, Timmernabben\, 380 52
ATTACH;FMTTYPE=image/jpeg:https://caravanclub.se/content/uploads/Tovningsull-multicolor-blandat-886x600-1.jpg
END:VEVENT
BEGIN:VEVENT
DTSTART;TZID=Europe/Stockholm:20260131T180000
DTEND;TZID=Europe/Stockholm:20260131T233000
DTSTAMP:20260420T044215
CREATED:20251121T181125Z
LAST-MODIFIED:20251121T181125Z
UID:10001045-1769882400-1769902200@caravanclub.se
SUMMARY:Grillbuffé
DESCRIPTION:Grillbuffé\n  \nNu duggar det tätt mellan mataktiviteterna. Genom åren har vi alltid kört olika varianter av grillbufféer i början av året. Så även i år.\nDock har i denna vinter gjort en liten förändring av kock. Det blir Tobias som har Wiberestaurangen som kommer och dukar upp sin stora grillbuffé.\nVi har också lyckats justera priset i rätt riktning. Det blir billigare! \nVi samlas i Tv-huset eller Jugen Jon kl. 18.\nMer information kommer att finnas på informationstavlorna och i Facebookgruppen. \nPris: 295 kr/person. Önskad dryck och det ni vill äta på och äta med tar ni med själva.\nAnmälan görs till Christer på telefon 073-036 9273\, mejl chriper@telia.com eller prata med honom när han är på campingen. Ni finner honom då på plats 101. \nSista anmälan\, söndag 18/1.
URL:https://caravanclub.se/event/grillbuffe/
LOCATION:Caravan Club Sollerön\, Soldvägen 149\, Levsnäs\, 79290\, Sweden
END:VEVENT
BEGIN:VEVENT
DTSTART;TZID=Europe/Stockholm:20260131T190000
DTEND;TZID=Europe/Stockholm:20260131T233000
DTSTAMP:20260420T044215
CREATED:20251215T141739Z
LAST-MODIFIED:20251215T141739Z
UID:10001051-1769886000-1769902200@caravanclub.se
SUMMARY:Vitvinsprovning
DESCRIPTION:
URL:https://caravanclub.se/event/vitvinsprovning/
LOCATION:Caravan Club Smednäset\, Smednäsvägen 30\, Linghed\, 790 25\, Sweden
ATTACH;FMTTYPE=image/jpeg:https://caravanclub.se/content/uploads/VinprovningSmednaset.jpg
END:VEVENT
BEGIN:VEVENT
DTSTART;TZID=Europe/Stockholm:20260131T193000
DTEND;TZID=Europe/Stockholm:20260131T220000
DTSTAMP:20260420T044215
CREATED:20251022T081258Z
LAST-MODIFIED:20251022T082539Z
UID:10001000-1769887800-1769896800@caravanclub.se
SUMMARY:Mellokväll med pub Mista
DESCRIPTION:Välkommen till storbilds-TV i storstugan! \nDeltävling 1 i Linköping
URL:https://caravanclub.se/event/mellokvall-med-pub-mista/
LOCATION:Caravan Club Mista\, Mista 1\, Vaxholm\, Vaxholm\, 18593\, Sweden
ATTACH;FMTTYPE=image/jpeg:https://caravanclub.se/content/uploads/Mello.jpg
END:VEVENT
BEGIN:VEVENT
DTSTART;TZID=Europe/Stockholm:20260207T080000
DTEND;TZID=Europe/Stockholm:20260207T170000
DTSTAMP:20260420T044215
CREATED:20251023T111102Z
LAST-MODIFIED:20251023T111102Z
UID:10001023-1770451200-1770483600@caravanclub.se
SUMMARY:Lysafton med pub Örstig
DESCRIPTION:
URL:https://caravanclub.se/event/lysafton-med-pub-orstig/
LOCATION:Caravan Club Örstig\, Örstigsleden\, Nyköping\, 61192\, Sweden
END:VEVENT
BEGIN:VEVENT
DTSTART;TZID=Europe/Stockholm:20260207T100000
DTEND;TZID=Europe/Stockholm:20260207T133000
DTSTAMP:20260420T044215
CREATED:20260126T090723Z
LAST-MODIFIED:20260205T085156Z
UID:10001072-1770458400-1770471000@caravanclub.se
SUMMARY:Kolbullar vid restaurangen i Sandvik
DESCRIPTION:  \n  \nSandvik den 7/2 tillverkar vi Kolbullar vid restaurangen \nVälkomna!
URL:https://caravanclub.se/event/kolbullar/
LOCATION:Sandvik\, Sandvik\, Vreta Kloster\, 59078\, Sverige
ATTACH;FMTTYPE=image/jpeg:https://caravanclub.se/content/uploads/kolbulle-2.jpg
END:VEVENT
BEGIN:VEVENT
DTSTART;TZID=Europe/Stockholm:20260207T193000
DTEND;TZID=Europe/Stockholm:20260207T220000
DTSTAMP:20260420T044215
CREATED:20251022T081641Z
LAST-MODIFIED:20251022T082507Z
UID:10001001-1770492600-1770501600@caravanclub.se
SUMMARY:Mellokväll med pub Mista
DESCRIPTION:Välkommen till storbilds-TV i storstugan! \nDeltävling 2 Göteborg
URL:https://caravanclub.se/event/mellokvall-med-pub-mista-2/
LOCATION:Caravan Club Mista\, Mista 1\, Vaxholm\, Vaxholm\, 18593\, Sweden
ATTACH;FMTTYPE=image/jpeg:https://caravanclub.se/content/uploads/Mello.jpg
END:VEVENT
BEGIN:VEVENT
DTSTART;TZID=Europe/Stockholm:20260207T200000
DTEND;TZID=Europe/Stockholm:20260207T230000
DTSTAMP:20260420T044215
CREATED:20260207T161352Z
LAST-MODIFIED:20260207T180700Z
UID:10001101-1770494400-1770505200@caravanclub.se
SUMMARY:Melodifestival
DESCRIPTION:Kom och gör oss sällskap och titta på Melodifestivalen
URL:https://caravanclub.se/event/melodifestival/
LOCATION:Caravan Club Silvköparen\, Silvköparen 100\, Sala\, 73397\, Sweden
ATTACH;FMTTYPE=image/png:https://caravanclub.se/content/uploads/SilvkoparenMelloKnytis.png
END:VEVENT
BEGIN:VEVENT
DTSTART;TZID=Europe/Stockholm:20260214T080000
DTEND;TZID=Europe/Stockholm:20260214T170000
DTSTAMP:20260420T044215
CREATED:20251023T111241Z
LAST-MODIFIED:20251023T111241Z
UID:10001025-1771056000-1771088400@caravanclub.se
SUMMARY:Bowling Kapellskär
DESCRIPTION:
URL:https://caravanclub.se/event/bowling-kapellskar-2/
LOCATION:Caravan Club Kapellskär\, Myntarbyäng\, Gräddö\, 76015\, Sverige
END:VEVENT
BEGIN:VEVENT
DTSTART;TZID=Europe/Stockholm:20260214T170000
DTEND;TZID=Europe/Stockholm:20260214T170000
DTSTAMP:20260420T044215
CREATED:20260106T113451Z
LAST-MODIFIED:20260106T113451Z
UID:10001059-1771088400-1771088400@caravanclub.se
SUMMARY:Afterski med knytis CC Kettilsås
DESCRIPTION:Häng med på Afterski med knytis till kvällen hos oss på CC Kettilsås! \nTid ej fastslaget.
URL:https://caravanclub.se/event/afterski-med-knytis-cc-kettilsas/
LOCATION:Caravan Club Kettilsås\, Mederyd 2\, Vetlanda\, 574 91\, Sverige
ATTACH;FMTTYPE=image/jpeg:https://caravanclub.se/content/uploads/469584266_3794545697450196_6836393992641665802_n.jpg
END:VEVENT
BEGIN:VEVENT
DTSTART;TZID=Europe/Stockholm:20260214T180000
DTEND;TZID=Europe/Stockholm:20260214T230000
DTSTAMP:20260420T044215
CREATED:20260126T092722Z
LAST-MODIFIED:20260205T090011Z
UID:10001073-1771092000-1771110000@caravanclub.se
SUMMARY:Ärtsoppa på Borensäng
DESCRIPTION:  \nLördag den 14/2 serveras ärtsoppa med tillbehör på Borensäng
URL:https://caravanclub.se/event/artsoppa/
LOCATION:Borensäng\, Bergsvägen 30\, Borensberg\, 59031\, Sverige
ATTACH;FMTTYPE=image/jpeg:https://caravanclub.se/content/uploads/artsoppa-2-e1770281987826.jpg
END:VEVENT
BEGIN:VEVENT
DTSTART;TZID=Europe/Stockholm:20260214T193000
DTEND;TZID=Europe/Stockholm:20260214T220000
DTSTAMP:20260420T044215
CREATED:20251022T081820Z
LAST-MODIFIED:20251022T082453Z
UID:10001002-1771097400-1771106400@caravanclub.se
SUMMARY:Mellokväll med pub Mista
DESCRIPTION:Välkommen till storbilds-TV i storstugan! \nDeltävling 3 Kristianstad
URL:https://caravanclub.se/event/mellokvall-med-pub-mista-3/
LOCATION:Caravan Club Mista\, Mista 1\, Vaxholm\, Vaxholm\, 18593\, Sweden
ATTACH;FMTTYPE=image/jpeg:https://caravanclub.se/content/uploads/Mello.jpg
END:VEVENT
BEGIN:VEVENT
DTSTART;TZID=Europe/Stockholm:20260214T200000
DTEND;TZID=Europe/Stockholm:20260214T230000
DTSTAMP:20260420T044215
CREATED:20260207T164251Z
LAST-MODIFIED:20260207T180604Z
UID:10001102-1771099200-1771110000@caravanclub.se
SUMMARY:Melodifestival
DESCRIPTION:Kom och gör oss sällskap och titta på Melodifestivalen
URL:https://caravanclub.se/event/melodifestival-2/
LOCATION:Caravan Club Silvköparen\, Silvköparen 100\, Sala\, 73397\, Sweden
ATTACH;FMTTYPE=image/png:https://caravanclub.se/content/uploads/SilvkoparenMelloKnytis.png
END:VEVENT
BEGIN:VEVENT
DTSTART;TZID=Europe/Stockholm:20260220T180000
DTEND;TZID=Europe/Stockholm:20260220T230000
DTSTAMP:20260420T044215
CREATED:20260220T100804Z
LAST-MODIFIED:20260220T100804Z
UID:10001154-1771610400-1771628400@caravanclub.se
SUMMARY:Lysnatta Björkö Örn
DESCRIPTION:
URL:https://caravanclub.se/event/lysnatta-bjorko-orn/
LOCATION:Caravan Club Björkö Örn\, Björkö Örns Camping\, Gräddö\, 71650\, Sweden
END:VEVENT
BEGIN:VEVENT
DTSTART;TZID=Europe/Stockholm:20260221T080000
DTEND;TZID=Europe/Stockholm:20260221T170000
DTSTAMP:20260420T044215
CREATED:20251023T111325Z
LAST-MODIFIED:20251023T111325Z
UID:10001026-1771660800-1771693200@caravanclub.se
SUMMARY:After ski Kapellskär
DESCRIPTION:
URL:https://caravanclub.se/event/after-ski-kapellskar/
LOCATION:Caravan Club Kapellskär\, Myntarbyäng\, Gräddö\, 76015\, Sverige
END:VEVENT
BEGIN:VEVENT
DTSTART;TZID=Europe/Stockholm:20260221T080000
DTEND;TZID=Europe/Stockholm:20260221T170000
DTSTAMP:20260420T044215
CREATED:20251023T111459Z
LAST-MODIFIED:20251023T111459Z
UID:10001027-1771660800-1771693200@caravanclub.se
SUMMARY:Mellokväll med pub Örstig
DESCRIPTION:Deltävling 4 Malmö
URL:https://caravanclub.se/event/mellokvall-med-pub-orstig/
LOCATION:Caravan Club Örstig\, Örstigsleden\, Nyköping\, 61192\, Sweden
ATTACH;FMTTYPE=image/jpeg:https://caravanclub.se/content/uploads/Mello.jpg
END:VEVENT
BEGIN:VEVENT
DTSTART;TZID=Europe/Stockholm:20260221T193000
DTEND;TZID=Europe/Stockholm:20260221T220000
DTSTAMP:20260420T044215
CREATED:20251022T082435Z
LAST-MODIFIED:20251022T082435Z
UID:10001003-1771702200-1771711200@caravanclub.se
SUMMARY:Mellokväll med pub Mista
DESCRIPTION:Välkommen till storbilds-TV i storstugan! \nDeltävling 4 Malmö
URL:https://caravanclub.se/event/mellokvall-med-pub-mista-5/
LOCATION:Caravan Club Mista\, Mista 1\, Vaxholm\, Vaxholm\, 18593\, Sweden
ATTACH;FMTTYPE=image/jpeg:https://caravanclub.se/content/uploads/Mello.jpg
END:VEVENT
BEGIN:VEVENT
DTSTART;TZID=Europe/Stockholm:20260221T200000
DTEND;TZID=Europe/Stockholm:20260221T230000
DTSTAMP:20260420T044215
CREATED:20260207T164510Z
LAST-MODIFIED:20260207T180445Z
UID:10001103-1771704000-1771714800@caravanclub.se
SUMMARY:Melodifestival
DESCRIPTION:Kom och gör oss sällskap och titta på Melodifestivalen
URL:https://caravanclub.se/event/melodifestival-3/
LOCATION:Caravan Club Silvköparen\, Silvköparen 100\, Sala\, 73397\, Sweden
ATTACH;FMTTYPE=image/png:https://caravanclub.se/content/uploads/SilvkoparenMelloKnytis.png
END:VEVENT
BEGIN:VEVENT
DTSTART;TZID=Europe/Stockholm:20260227T180000
DTEND;TZID=Europe/Stockholm:20260228T233000
DTSTAMP:20260420T044215
CREATED:20251218T120523Z
LAST-MODIFIED:20260217T083902Z
UID:10001053-1772215200-1772321400@caravanclub.se
SUMMARY:Mellohelg i restaurangen – Björkö Örn
DESCRIPTION:Varmt välkommen på en festlig kväll!
URL:https://caravanclub.se/event/karaokekvall-bjorko-orn-2/
LOCATION:Caravan Club Björkö Örn\, Björkö Örns Camping\, Gräddö\, 71650\, Sweden
END:VEVENT
BEGIN:VEVENT
DTSTART;TZID=Europe/Stockholm:20260228T110000
DTEND;TZID=Europe/Stockholm:20260228T140000
DTSTAMP:20260420T044215
CREATED:20260106T113956Z
LAST-MODIFIED:20260106T113956Z
UID:10001060-1772276400-1772287200@caravanclub.se
SUMMARY:Bayersk kväll på CC Timmernabben
DESCRIPTION:Bayersk kväll: en kväll med smak av Tyskland och festlig stämning. Ta med vännerna och upplev en bayersk kväll fylld av skratt och samvaro. \nTid och kostnad ej fastslaget ännu.
URL:https://caravanclub.se/event/bayersk-kvall-pa-cc-timmernabben/
LOCATION:Caravan Club Timmernabben\, Varvsvägen 29\, Timmernabben\, 380 52
ATTACH;FMTTYPE=image/jpeg:https://caravanclub.se/content/uploads/beer-4816051_1280.jpg
END:VEVENT
BEGIN:VEVENT
DTSTART;TZID=Europe/Stockholm:20260228T140000
DTEND;TZID=Europe/Stockholm:20260228T160000
DTSTAMP:20260420T044215
CREATED:20251121T181405Z
LAST-MODIFIED:20251121T181405Z
UID:10001047-1772287200-1772294400@caravanclub.se
SUMMARY:Handarbetscafé
DESCRIPTION:Handarbetscafé\n  \nDet här var en nyhet för några år sen och som tagits emot så positivt så vi kör vidare även denna vinter. \nVälkommen till köket i servicehus 4 kl. 14-16 för lite trevligt samkväm. \nDå Barbro brukar baka något gott till kaffet vill vi som vanligt att ni anmäler er genom att Sms:a på telefon 070-6792793 eller mailar henne på barbroeriksson56@hotmail.com.\nSjälvklart kan ni också prata med henne när hon är på plats. Ni finner henne då på plats 12.
URL:https://caravanclub.se/event/handarbetscafe-2/
LOCATION:Caravan Club Sollerön\, Soldvägen 149\, Levsnäs\, 79290\, Sweden
END:VEVENT
BEGIN:VEVENT
DTSTART;TZID=Europe/Stockholm:20260228T180000
DTEND;TZID=Europe/Stockholm:20260228T233000
DTSTAMP:20260420T044215
CREATED:20251121T181243Z
LAST-MODIFIED:20251121T181243Z
UID:10001046-1772301600-1772321400@caravanclub.se
SUMMARY:Tacobuffé
DESCRIPTION:Tacobuffé\n  \nHär kommer en come back. Vad sägs om lite fredagsmys på en lördagskväll?\nDenna kväll blev mycket uppskattad i fjol så på begäran kör vi en önskerepris. \nÄven i år önskar vi hjälp med att hacka grönsaker och förberedelser.\nHjälps vi åt så blir det ju också en lite mer personlig aktivitet. Vi kör som i fjol i köket på servicehus 4. \nPriset för detta kalas är 125kr/person och vi samlas i Tv-huset kl. 18.\nNi tar som vanligt med dryck och det ni vill äta på\, äta med och dricka ur. \nAnmälan görs till Christer på telefon 073-036 92 73\, mejl chriper@telia.com eller prata med honom när han är på campingen. Ni finner honom då på plats 101. \nSista anmälan\, söndag 15/2.
URL:https://caravanclub.se/event/tacobuffe/
LOCATION:Caravan Club Sollerön\, Soldvägen 149\, Levsnäs\, 79290\, Sweden
END:VEVENT
BEGIN:VEVENT
DTSTART;TZID=Europe/Stockholm:20260228T193000
DTEND;TZID=Europe/Stockholm:20260228T220000
DTSTAMP:20260420T044215
CREATED:20251022T082104Z
LAST-MODIFIED:20251022T082120Z
UID:10001004-1772307000-1772316000@caravanclub.se
SUMMARY:Mellokväll med pub Mista
DESCRIPTION:Välkommen till storbilds-TV i storstugan! \nDeltävling 5 Sundsvall
URL:https://caravanclub.se/event/mellokvall-med-pub-mista-4/
LOCATION:Caravan Club Mista\, Mista 1\, Vaxholm\, Vaxholm\, 18593\, Sweden
ATTACH;FMTTYPE=image/jpeg:https://caravanclub.se/content/uploads/Mello.jpg
END:VEVENT
BEGIN:VEVENT
DTSTART;TZID=Europe/Stockholm:20260228T200000
DTEND;TZID=Europe/Stockholm:20260228T230000
DTSTAMP:20260420T044215
CREATED:20260207T164755Z
LAST-MODIFIED:20260207T180242Z
UID:10001104-1772308800-1772319600@caravanclub.se
SUMMARY:Melodifestivalen
DESCRIPTION:Kom och gör oss sällskap och titta på Melodifestivalen
URL:https://caravanclub.se/event/melodifestivalen/
LOCATION:Caravan Club Silvköparen\, Silvköparen 100\, Sala\, 73397\, Sweden
ATTACH;FMTTYPE=image/png:https://caravanclub.se/content/uploads/SilvkoparenMelloKnytis.png
END:VEVENT
BEGIN:VEVENT
DTSTART;TZID=Europe/Stockholm:20260307T080000
DTEND;TZID=Europe/Stockholm:20260307T170000
DTSTAMP:20260420T044215
CREATED:20251023T111543Z
LAST-MODIFIED:20251023T111543Z
UID:10001028-1772870400-1772902800@caravanclub.se
SUMMARY:Grisfest Kapellskär
DESCRIPTION:
URL:https://caravanclub.se/event/grisfest-kapellskar/
LOCATION:Caravan Club Kapellskär\, Myntarbyäng\, Gräddö\, 76015\, Sverige
END:VEVENT
BEGIN:VEVENT
DTSTART;TZID=Europe/Stockholm:20260307T080000
DTEND;TZID=Europe/Stockholm:20260307T170000
DTSTAMP:20260420T044215
CREATED:20251023T111635Z
LAST-MODIFIED:20251023T111635Z
UID:10001029-1772870400-1772902800@caravanclub.se
SUMMARY:After ski med pub Örstig
DESCRIPTION:
URL:https://caravanclub.se/event/after-ski-med-pub-orstig/
LOCATION:Caravan Club Örstig\, Örstigsleden\, Nyköping\, 61192\, Sweden
END:VEVENT
BEGIN:VEVENT
DTSTART;TZID=Europe/Stockholm:20260307T130000
DTEND;TZID=Europe/Stockholm:20260307T150000
DTSTAMP:20260420T044216
CREATED:20260126T112200Z
LAST-MODIFIED:20260126T112200Z
UID:10001077-1772888400-1772895600@caravanclub.se
SUMMARY:After ski lunch Mista
DESCRIPTION:
URL:https://caravanclub.se/event/after-ski-lunch-mista/
LOCATION:Caravan Club Mista\, Mista 1\, Vaxholm\, Vaxholm\, 18593\, Sweden
ATTACH;FMTTYPE=application/pdf:https://caravanclub.se/content/uploads/After-ski_2026-3.pdf
END:VEVENT
BEGIN:VEVENT
DTSTART;TZID=Europe/Stockholm:20260307T170000
DTEND;TZID=Europe/Stockholm:20260307T220000
DTSTAMP:20260420T044216
CREATED:20260207T181320Z
LAST-MODIFIED:20260207T181320Z
UID:10001105-1772902800-1772920800@caravanclub.se
SUMMARY:Silvköparen bjuder in till Bowling i Sala
DESCRIPTION:Bowlinghallen\, Sala. Mat+spel 279 kr/pers betalas av deltagare
URL:https://caravanclub.se/event/silvkoparen-bjuder-in-till-bowling-i-sala/
LOCATION:Caravan Club Silvköparen\, Silvköparen 100\, Sala\, 73397\, Sweden
ATTACH;FMTTYPE=image/png:https://caravanclub.se/content/uploads/BowlingSilvkoparen.png
END:VEVENT
END:VCALENDAR