BEGIN:VCALENDAR
VERSION:2.0
PRODID:-//Caravan Club of Sweden - ECPv6.15.17.1//NONSGML v1.0//EN
CALSCALE:GREGORIAN
METHOD:PUBLISH
X-ORIGINAL-URL:https://caravanclub.se
X-WR-CALDESC:Händelser för Caravan Club of Sweden
REFRESH-INTERVAL;VALUE=DURATION:PT1H
X-Robots-Tag:noindex
X-PUBLISHED-TTL:PT1H
BEGIN:VTIMEZONE
TZID:Europe/Stockholm
BEGIN:DAYLIGHT
TZOFFSETFROM:+0100
TZOFFSETTO:+0200
TZNAME:CEST
DTSTART:20240331T010000
END:DAYLIGHT
BEGIN:STANDARD
TZOFFSETFROM:+0200
TZOFFSETTO:+0100
TZNAME:CET
DTSTART:20241027T010000
END:STANDARD
BEGIN:DAYLIGHT
TZOFFSETFROM:+0100
TZOFFSETTO:+0200
TZNAME:CEST
DTSTART:20250330T010000
END:DAYLIGHT
BEGIN:STANDARD
TZOFFSETFROM:+0200
TZOFFSETTO:+0100
TZNAME:CET
DTSTART:20251026T010000
END:STANDARD
BEGIN:DAYLIGHT
TZOFFSETFROM:+0100
TZOFFSETTO:+0200
TZNAME:CEST
DTSTART:20260329T010000
END:DAYLIGHT
BEGIN:STANDARD
TZOFFSETFROM:+0200
TZOFFSETTO:+0100
TZNAME:CET
DTSTART:20261025T010000
END:STANDARD
END:VTIMEZONE
BEGIN:VEVENT
DTSTART;TZID=Europe/Stockholm:20251122T190000
DTEND;TZID=Europe/Stockholm:20251122T233000
DTSTAMP:20260420T060212
CREATED:20251015T183529Z
LAST-MODIFIED:20251015T183802Z
UID:10000996-1763838000-1763854200@caravanclub.se
SUMMARY:"Disco Night" på Hökensås! 
DESCRIPTION:Låt oss ta oss tillbaka i tiden tillsammans. När du var dancing queen eller king of the dance floor. Låt dig ryckas med och ta dina bästa Moves till Hökensås egna discotek där vi får dansgolvet att koka tillsammans. \nVi ser gärna att du klär dig i dina bästa coolaste disco-kläder från ditt bästa årtionde. Kom med oss och höj tempen! \nVi öppnar dörrarna kl 19:00 och det kommer att finnas enklare tilltugg att mumsa på. \nNär: Lördagen den 22/11\nVar: Campingens samlingslokal\nEntrébiljett: 75kr (betalas på plats via Swish)\nMax antal: 80 pers.\nMedtag egen dryck. \nAnmälan görs via denna länk:\nhttps://forms.office.com/e/1qQigwvkYP\n(Sista anmälan 17 november) \nVid anmälan ange 3 låtar med tillhörande artist/grupp så kommer vi i festkommittén att anordna en spellista gjord av er. \nVarmt välkomna!
URL:https://caravanclub.se/event/disco-night-pa-hokensas/
LOCATION:Caravan Club Hökensås\, HÅKÄNGEN 12\, Tidaholm\, 522 91
ATTACH;FMTTYPE=image/jpeg:https://caravanclub.se/content/uploads/Disco-2025.jpg
END:VEVENT
END:VCALENDAR