BEGIN:VCALENDAR
VERSION:2.0
PRODID:-//Caravan Club of Sweden - ECPv6.15.17.1//NONSGML v1.0//EN
CALSCALE:GREGORIAN
METHOD:PUBLISH
X-ORIGINAL-URL:https://caravanclub.se
X-WR-CALDESC:Händelser för Caravan Club of Sweden
REFRESH-INTERVAL;VALUE=DURATION:PT1H
X-Robots-Tag:noindex
X-PUBLISHED-TTL:PT1H
BEGIN:VTIMEZONE
TZID:Europe/Stockholm
BEGIN:DAYLIGHT
TZOFFSETFROM:+0100
TZOFFSETTO:+0200
TZNAME:CEST
DTSTART:20240331T010000
END:DAYLIGHT
BEGIN:STANDARD
TZOFFSETFROM:+0200
TZOFFSETTO:+0100
TZNAME:CET
DTSTART:20241027T010000
END:STANDARD
BEGIN:DAYLIGHT
TZOFFSETFROM:+0100
TZOFFSETTO:+0200
TZNAME:CEST
DTSTART:20250330T010000
END:DAYLIGHT
BEGIN:STANDARD
TZOFFSETFROM:+0200
TZOFFSETTO:+0100
TZNAME:CET
DTSTART:20251026T010000
END:STANDARD
BEGIN:DAYLIGHT
TZOFFSETFROM:+0100
TZOFFSETTO:+0200
TZNAME:CEST
DTSTART:20260329T010000
END:DAYLIGHT
BEGIN:STANDARD
TZOFFSETFROM:+0200
TZOFFSETTO:+0100
TZNAME:CET
DTSTART:20261025T010000
END:STANDARD
BEGIN:DAYLIGHT
TZOFFSETFROM:+0100
TZOFFSETTO:+0200
TZNAME:CEST
DTSTART:20270328T010000
END:DAYLIGHT
BEGIN:STANDARD
TZOFFSETFROM:+0200
TZOFFSETTO:+0100
TZNAME:CET
DTSTART:20271031T010000
END:STANDARD
END:VTIMEZONE
BEGIN:VEVENT
DTSTART;VALUE=DATE:20251231
DTEND;VALUE=DATE:20260101
DTSTAMP:20260420T043340
CREATED:20241129T071051Z
LAST-MODIFIED:20241129T071051Z
UID:10000535-1767139200-1767225599@caravanclub.se
SUMMARY:Nyår på Löt
DESCRIPTION:Nytt år\, klart det ska firas! Mer info återkommer vi med när det närmar sig.
URL:https://caravanclub.se/event/nyar-pa-lot/
LOCATION:Löts Camping\, Löts Campingplats 1\, Strängnäs\, 645 94\, Sweden
END:VEVENT
BEGIN:VEVENT
DTSTART;TZID=Europe/Stockholm:20251231T180000
DTEND;TZID=Europe/Stockholm:20251231T233000
DTSTAMP:20260420T043340
CREATED:20251113T084118Z
LAST-MODIFIED:20251210T160008Z
UID:10001039-1767204000-1767223800@caravanclub.se
SUMMARY:Nyårsfirande Söndremark
DESCRIPTION:Välkommen att fira nyår på Söndremark! \nVi samlas i Ladan kl. 11 för att tillsammans duka och dekorera. En del pynt finns på plats\, men ta gärna med eget om du vill bidra. \nKvällens nyårsfirande sker med egen mat och dryck. Vi startar kl. 18 med lite mingel och sätter oss till bords kl. 19. Vid tolvslaget skålar vi in det nya året med valfri dryck. \nAv hänsyn till våra fyrbenta vänner avstår vi från fyrverkerier.\nFör den som vill finns även möjlighet till både bastu och vinterbad! \nVid Ladan finns det möjlighet till varmhållning och grill. \nDagen efter hjälps vi åt att städa Ladan kl. 13. \nAnmälan:\naktiviteter.sondremark@caravanclub.se \nSenast: 28 december \nVarmt välkomna!\nAktivitetsgruppen \nBoka gästplats:\nBoka gästplats \nKolla in våra övriga aktiviteter som är på gång 2026:\nAktiviteter
URL:https://caravanclub.se/event/nyarsfirande-sondremark/
LOCATION:Söndremark camping\, Ivö\, Caravanvägen 50\, Fjälkinge\, 291 68\, Sverige
ATTACH;FMTTYPE=image/jpeg:https://caravanclub.se/content/uploads/sylvester-6897648_1280.jpg
ORGANIZER;CN="S%C3%B6ndremark camping":MAILTO:sondremark@ccklm.se
END:VEVENT
BEGIN:VEVENT
DTSTART;TZID=Europe/Stockholm:20251231T180000
DTEND;TZID=Europe/Stockholm:20260101T003000
DTSTAMP:20260420T043340
CREATED:20251121T175539Z
LAST-MODIFIED:20251121T180333Z
UID:10001042-1767204000-1767227400@caravanclub.se
SUMMARY:Nyårsknytis
DESCRIPTION:Nyårsknytis\n  \nÄven i år tänkte vi hålla fast vid traditionen med nyårsfirande tillsammans. Det blir som vanligt i forma av knytis.\nMed tanke på våra fyrbenta vänner kommer vi även i år att avstå nyårsfyrverkeriet.\nSom vanligt kommer vi säkert bjudas ett förstklassigt fyrverkeri från andra sidan sjön.\nVi kommer att lysa upp vinternatten med ett stämningsfullt fackeltåg från receptionen ner till Tv-huset.\nVi samlas vid receptionen ca 23.30 för utdelning av facklor och börjar gå ca 23.45.\nVid Tv-huset bjuder vi som vanligt på lite nattvickning i form av korv med bröd. \nHär behövs ingen anmälan. Tv-huset stå öppet till ert förfogande under kvällen.
URL:https://caravanclub.se/event/nyarsknytis/
LOCATION:Caravan Club Sollerön\, Soldvägen 149\, Levsnäs\, 79290\, Sweden
END:VEVENT
BEGIN:VEVENT
DTSTART;TZID=Europe/Stockholm:20251231T193000
DTEND;TZID=Europe/Stockholm:20260101T010000
DTSTAMP:20260420T043340
CREATED:20250824T143252Z
LAST-MODIFIED:20251117T101118Z
UID:10000987-1767209400-1767229200@caravanclub.se
SUMMARY:Nyårsfirande i storstugan
DESCRIPTION:Nyårsfirande i storstugan \nMenyn \nFörrätt:\nSkagentoast \nVarmrätt:\nFläskfilé med kulpotatis och bea\, rödvinsås och sallad \nDessert:\nFransk chokladtårta med grädde \nAnmälan till aktiviteter@smednaset.se \nInbetalning sker i samband med anmälan till BG-. 551-4591 eller Swish: 12345 399 53 skriv Nyår på inbetalningen \n 
URL:https://caravanclub.se/event/nyarsfirande-i-storstugan/
LOCATION:Caravan Club Smednäset\, Smednäsvägen 30\, Linghed\, 790 25\, Sweden
ATTACH;FMTTYPE=image/jpeg:https://caravanclub.se/content/uploads/Nyar2025.jpg
END:VEVENT
BEGIN:VEVENT
DTSTART;TZID=Europe/Stockholm:20260103T080000
DTEND;TZID=Europe/Stockholm:20260103T170000
DTSTAMP:20260420T043340
CREATED:20251023T110634Z
LAST-MODIFIED:20251023T110634Z
UID:10001018-1767427200-1767459600@caravanclub.se
SUMMARY:Pysselkväll Kapellskär
DESCRIPTION:
URL:https://caravanclub.se/event/pysselkvall-kapellskar/
LOCATION:Caravan Club Kapellskär\, Myntarbyäng\, Gräddö\, 76015\, Sverige
END:VEVENT
BEGIN:VEVENT
DTSTART;TZID=Europe/Stockholm:20260103T180000
DTEND;TZID=Europe/Stockholm:20260103T233000
DTSTAMP:20260420T043340
CREATED:20251121T180733Z
LAST-MODIFIED:20251121T180733Z
UID:10001043-1767463200-1767483000@caravanclub.se
SUMMARY:Thaiafton
DESCRIPTION:Thaiafton\nHär kommer en nyhet för vintern.\nKnoll och Tott\, nej skämt och sida så är det Yngve och Bong som bjöd sommarsäsongarna på en riktigt trevlig thaiafton med fantastisk mat under våren.\nDå tycker vi att det är inte mer än rätt att även vintersäsongarna ska få chansen att njuta deras mat.\nÄven denna gång dukar de upp två olika rätter med varierande styrka. \nTid och plats: Jugen Jon kl. 18.00. Pris: 150kr/person. Betalas med Swish på plats.\nSom vanligt tar ni med det ni vill äta på och dricka till. \nFör att vi ska ha lite koll på matbeställningen så vill vi att ni anmäler er till Christer via mail chriper@telia.com eller telefon 073-0369273. Ni kan också prata med honom när han är på campingen. Då hittar ni honom på plats 101. \nSista anmälan är söndag 20/12. Maxantal är 50 personer. Först till kvarn gäller.
URL:https://caravanclub.se/event/thaiafton-2/
LOCATION:Caravan Club Sollerön\, Soldvägen 149\, Levsnäs\, 79290\, Sweden
END:VEVENT
END:VCALENDAR