BEGIN:VCALENDAR
VERSION:2.0
PRODID:-//Caravan Club of Sweden - ECPv6.15.17.1//NONSGML v1.0//EN
CALSCALE:GREGORIAN
METHOD:PUBLISH
X-ORIGINAL-URL:https://caravanclub.se
X-WR-CALDESC:Händelser för Caravan Club of Sweden
REFRESH-INTERVAL;VALUE=DURATION:PT1H
X-Robots-Tag:noindex
X-PUBLISHED-TTL:PT1H
BEGIN:VTIMEZONE
TZID:Europe/Stockholm
BEGIN:DAYLIGHT
TZOFFSETFROM:+0100
TZOFFSETTO:+0200
TZNAME:CEST
DTSTART:20250330T010000
END:DAYLIGHT
BEGIN:STANDARD
TZOFFSETFROM:+0200
TZOFFSETTO:+0100
TZNAME:CET
DTSTART:20251026T010000
END:STANDARD
BEGIN:DAYLIGHT
TZOFFSETFROM:+0100
TZOFFSETTO:+0200
TZNAME:CEST
DTSTART:20260329T010000
END:DAYLIGHT
BEGIN:STANDARD
TZOFFSETFROM:+0200
TZOFFSETTO:+0100
TZNAME:CET
DTSTART:20261025T010000
END:STANDARD
BEGIN:DAYLIGHT
TZOFFSETFROM:+0100
TZOFFSETTO:+0200
TZNAME:CEST
DTSTART:20270328T010000
END:DAYLIGHT
BEGIN:STANDARD
TZOFFSETFROM:+0200
TZOFFSETTO:+0100
TZNAME:CET
DTSTART:20271031T010000
END:STANDARD
END:VTIMEZONE
BEGIN:VEVENT
DTSTART;TZID=Europe/Stockholm:20260117T080000
DTEND;TZID=Europe/Stockholm:20260117T170000
DTSTAMP:20260420T030636
CREATED:20251023T110926Z
LAST-MODIFIED:20251023T110926Z
UID:10001021-1768636800-1768669200@caravanclub.se
SUMMARY:Kväll med sällskapsspel Kapellskär
DESCRIPTION:
URL:https://caravanclub.se/event/kvall-med-sallskapsspel-kapellskar/
LOCATION:Caravan Club Kapellskär\, Myntarbyäng\, Gräddö\, 76015\, Sverige
END:VEVENT
BEGIN:VEVENT
DTSTART;TZID=Europe/Stockholm:20260117T130000
DTEND;TZID=Europe/Stockholm:20260117T140000
DTSTAMP:20260420T030636
CREATED:20260102T150911Z
LAST-MODIFIED:20260102T150911Z
UID:10001057-1768654800-1768658400@caravanclub.se
SUMMARY:Kolbulle Söndremark
DESCRIPTION:Lördagen den 17 januari klockan 13.00 kommer det att finnas möjlighet att göra kolbulle. \nKolbullen får man själv steka på grillen. \nVad är kolbulle? Det är en enklare form av\nfläskpannkaka. \nKolbullen kommer att säljas till självkostnadspris. \nAktivitetskommitten \n 
URL:https://caravanclub.se/event/kolbulle-sondremark/
LOCATION:Söndremark camping\, Ivö\, Caravanvägen 50\, Fjälkinge\, 291 68\, Sverige
ATTACH;FMTTYPE=image/jpeg:https://caravanclub.se/content/uploads/kolbulle-1.jpg
ORGANIZER;CN="S%C3%B6ndremark camping":MAILTO:sondremark@ccklm.se
END:VEVENT
BEGIN:VEVENT
DTSTART;TZID=Europe/Stockholm:20260117T140000
DTEND;TZID=Europe/Stockholm:20260117T160000
DTSTAMP:20260420T030636
CREATED:20251121T180951Z
LAST-MODIFIED:20251121T180951Z
UID:10001044-1768658400-1768665600@caravanclub.se
SUMMARY:Handarbetscafé
DESCRIPTION:Handarbetscafé\n  \nDet här var en nyhet för några år sen och som tagits emot så positivt så vi kör vidare även denna vinter. \nVälkommen till köket i servicehus 4 kl. 14-16 för lite trevligt samkväm. \nDå Barbro brukar baka något gott till kaffet vill vi som vanligt att ni anmäler er genom att Sms:a på telefon 070-6792793 eller mailar henne på barbroeriksson56@hotmail.com.\nSjälvklart kan ni också prata med henne när hon är på plats. Ni finner henne då på plats 12.
URL:https://caravanclub.se/event/handarbetscafe/
LOCATION:Caravan Club Sollerön\, Soldvägen 149\, Levsnäs\, 79290\, Sweden
END:VEVENT
END:VCALENDAR