BEGIN:VCALENDAR
VERSION:2.0
PRODID:-//Caravan Club of Sweden - ECPv6.15.17.1//NONSGML v1.0//EN
CALSCALE:GREGORIAN
METHOD:PUBLISH
X-WR-CALNAME:Caravan Club of Sweden
X-ORIGINAL-URL:https://caravanclub.se
X-WR-CALDESC:Händelser för Caravan Club of Sweden
REFRESH-INTERVAL;VALUE=DURATION:PT1H
X-Robots-Tag:noindex
X-PUBLISHED-TTL:PT1H
BEGIN:VTIMEZONE
TZID:Europe/Stockholm
BEGIN:DAYLIGHT
TZOFFSETFROM:+0100
TZOFFSETTO:+0200
TZNAME:CEST
DTSTART:20250330T010000
END:DAYLIGHT
BEGIN:STANDARD
TZOFFSETFROM:+0200
TZOFFSETTO:+0100
TZNAME:CET
DTSTART:20251026T010000
END:STANDARD
BEGIN:DAYLIGHT
TZOFFSETFROM:+0100
TZOFFSETTO:+0200
TZNAME:CEST
DTSTART:20260329T010000
END:DAYLIGHT
BEGIN:STANDARD
TZOFFSETFROM:+0200
TZOFFSETTO:+0100
TZNAME:CET
DTSTART:20261025T010000
END:STANDARD
BEGIN:DAYLIGHT
TZOFFSETFROM:+0100
TZOFFSETTO:+0200
TZNAME:CEST
DTSTART:20270328T010000
END:DAYLIGHT
BEGIN:STANDARD
TZOFFSETFROM:+0200
TZOFFSETTO:+0100
TZNAME:CET
DTSTART:20271031T010000
END:STANDARD
END:VTIMEZONE
BEGIN:VEVENT
DTSTART;TZID=Europe/Stockholm:20260310T080000
DTEND;TZID=Europe/Stockholm:20260310T170000
DTSTAMP:20260420T084435
CREATED:20260310T095734Z
LAST-MODIFIED:20260310T101019Z
UID:10001171-1773129600-1773162000@caravanclub.se
SUMMARY:Årsmöte Carvan Club Värmland
DESCRIPTION:Kom och gör din röst hörd! \nVarmt välkommen till vårt årsmöte!
URL:https://caravanclub.se/event/arsmote-2/
LOCATION:Vårt hus i Skatkärr\, Skogvallsvägen 45\, Skattkärr
END:VEVENT
BEGIN:VEVENT
DTSTART;TZID=Europe/Stockholm:20260313T000000
DTEND;TZID=Europe/Stockholm:20260315T000000
DTSTAMP:20260420T084435
CREATED:20260310T095456Z
LAST-MODIFIED:20260310T100939Z
UID:10001170-1773360000-1773532800@caravanclub.se
SUMMARY:Vårmässa i Karlstad
DESCRIPTION:Vi finns på plats hos Autohallen i Karlstad för att träffa både gamla och nya medlemmar. Km gärna förbi och ställ frågor och ge förslag på aktiviteter som du önskar.
URL:https://caravanclub.se/event/varmassa/
LOCATION:Autohallen Karlstad\, Bråtebäcksvägen 30\, Karlstad
END:VEVENT
BEGIN:VEVENT
DTSTART;TZID=Europe/Stockholm:20260314T080000
DTEND;TZID=Europe/Stockholm:20260314T170000
DTSTAMP:20260420T084435
CREATED:20251023T111847Z
LAST-MODIFIED:20251023T111847Z
UID:10001031-1773475200-1773507600@caravanclub.se
SUMMARY:Pubkväll Kapellskär
DESCRIPTION:
URL:https://caravanclub.se/event/pubkvall-kapellskar/
LOCATION:Caravan Club Kapellskär\, Myntarbyäng\, Gräddö\, 76015\, Sverige
END:VEVENT
BEGIN:VEVENT
DTSTART;TZID=Europe/Stockholm:20260314T100000
DTEND;TZID=Europe/Stockholm:20260314T200000
DTSTAMP:20260420T084435
CREATED:20260126T093848Z
LAST-MODIFIED:20260205T090239Z
UID:10001074-1773482400-1773518400@caravanclub.se
SUMMARY:Tipspromenad i Sandvik samt musik quiz
DESCRIPTION:Lördag den 14/3 finns möjlighet för alla att ta ett varv ute i friska luften\noch delta i tipspromenaden.\nVi kommer även ha musik quiz med linda och Sussi\nVälkomna!\n 
URL:https://caravanclub.se/event/tipspromenad-i-sandvik/
LOCATION:Sandvik\, Sandvik\, Vreta Kloster\, 59078\, Sverige
ATTACH;FMTTYPE=image/jpeg:https://caravanclub.se/content/uploads/Musikquiz.jpg
END:VEVENT
END:VCALENDAR