BEGIN:VCALENDAR
VERSION:2.0
PRODID:-//Caravan Club of Sweden - ECPv6.15.17.1//NONSGML v1.0//EN
CALSCALE:GREGORIAN
METHOD:PUBLISH
X-ORIGINAL-URL:https://caravanclub.se
X-WR-CALDESC:Händelser för Caravan Club of Sweden
REFRESH-INTERVAL;VALUE=DURATION:PT1H
X-Robots-Tag:noindex
X-PUBLISHED-TTL:PT1H
BEGIN:VTIMEZONE
TZID:Europe/Stockholm
BEGIN:DAYLIGHT
TZOFFSETFROM:+0100
TZOFFSETTO:+0200
TZNAME:CEST
DTSTART:20250330T010000
END:DAYLIGHT
BEGIN:STANDARD
TZOFFSETFROM:+0200
TZOFFSETTO:+0100
TZNAME:CET
DTSTART:20251026T010000
END:STANDARD
BEGIN:DAYLIGHT
TZOFFSETFROM:+0100
TZOFFSETTO:+0200
TZNAME:CEST
DTSTART:20260329T010000
END:DAYLIGHT
BEGIN:STANDARD
TZOFFSETFROM:+0200
TZOFFSETTO:+0100
TZNAME:CET
DTSTART:20261025T010000
END:STANDARD
BEGIN:DAYLIGHT
TZOFFSETFROM:+0100
TZOFFSETTO:+0200
TZNAME:CEST
DTSTART:20270328T010000
END:DAYLIGHT
BEGIN:STANDARD
TZOFFSETFROM:+0200
TZOFFSETTO:+0100
TZNAME:CET
DTSTART:20271031T010000
END:STANDARD
END:VTIMEZONE
BEGIN:VEVENT
DTSTART;VALUE=DATE:20260430
DTEND;VALUE=DATE:20260501
DTSTAMP:20260421T115718
CREATED:20260214T123314Z
LAST-MODIFIED:20260325T175654Z
UID:10001117-1777507200-1777593599@caravanclub.se
SUMMARY:Valborg  på Kärradal
DESCRIPTION:Valborgsmässoafton firande på Kärradal. \nKlockan 19.00 musik/dans till spellista och möjlighet att köpa hamburgare.
URL:https://caravanclub.se/event/valborg-pa-karradal/
LOCATION:Caravan Club Kärradal\, Liabovägen\, Varberg\, 432 95\, Sweden
END:VEVENT
BEGIN:VEVENT
DTSTART;TZID=Europe/Stockholm:20260430T080000
DTEND;TZID=Europe/Stockholm:20260503T170000
DTSTAMP:20260421T115718
CREATED:20260216T175112Z
LAST-MODIFIED:20260216T175112Z
UID:10001132-1777536000-1777827600@caravanclub.se
SUMMARY:Valborgsfirande Kapellskär
DESCRIPTION:
URL:https://caravanclub.se/event/valborgsfirande-kapellskar/
LOCATION:Caravan Club Kapellskär\, Myntarbyäng\, Gräddö\, 76015\, Sverige
ATTACH;FMTTYPE=image/jpeg:https://caravanclub.se/content/uploads/Valborgshelg-Kapellskar.jpg
END:VEVENT
BEGIN:VEVENT
DTSTART;TZID=Europe/Stockholm:20260430T160000
DTEND;TZID=Europe/Stockholm:20260430T213000
DTSTAMP:20260421T115718
CREATED:20260116T125441Z
LAST-MODIFIED:20260116T130422Z
UID:10001062-1777564800-1777584600@caravanclub.se
SUMMARY:Valborgsfest Östnora
DESCRIPTION:Grillkväll och eldfest vid grillen
URL:https://caravanclub.se/event/valborgsfest/
LOCATION:Östnora\, Östnoravägen 37\, Västerhaninge
END:VEVENT
BEGIN:VEVENT
DTSTART;TZID=Europe/Stockholm:20260430T190000
DTEND;TZID=Europe/Stockholm:20260430T233000
DTSTAMP:20260421T115718
CREATED:20260307T134653Z
LAST-MODIFIED:20260307T134653Z
UID:10001166-1777575600-1777591800@caravanclub.se
SUMMARY:Valborgsfirande på Smednäset
DESCRIPTION:
URL:https://caravanclub.se/event/valborgsfirande-pa-smednaset/
LOCATION:Caravan Club Smednäset\, Smednäsvägen 30\, Linghed\, 790 25\, Sweden
ATTACH;FMTTYPE=image/jpeg:https://caravanclub.se/content/uploads/IMG_6648.jpeg
END:VEVENT
BEGIN:VEVENT
DTSTART;TZID=Europe/Stockholm:20260502T160000
DTEND;TZID=Europe/Stockholm:20260502T230000
DTSTAMP:20260421T115718
CREATED:20260330T132017Z
LAST-MODIFIED:20260330T132017Z
UID:10001197-1777737600-1777762800@caravanclub.se
SUMMARY:Knytis Storsved
DESCRIPTION:Vi träffas i tältet för stort och härligt knytkalas
URL:https://caravanclub.se/event/knytis-storsved/
LOCATION:Caravan Club Storsved\, Kalvsviksvägen 22B\, Värmdö\, 13990\, Sweden
END:VEVENT
BEGIN:VEVENT
DTSTART;TZID=Europe/Stockholm:20260502T170000
DTEND;TZID=Europe/Stockholm:20260502T230000
DTSTAMP:20260421T115718
CREATED:20260216T172354Z
LAST-MODIFIED:20260414T163433Z
UID:10001123-1777741200-1777762800@caravanclub.se
SUMMARY:Vårpub Örstig
DESCRIPTION:
URL:https://caravanclub.se/event/varpub-orstig/
LOCATION:Caravan Club Örstig\, Örstigsleden\, Nyköping\, 61192\, Sweden
END:VEVENT
END:VCALENDAR