BEGIN:VCALENDAR
VERSION:2.0
PRODID:-//Caravan Club of Sweden - ECPv6.15.17.1//NONSGML v1.0//EN
CALSCALE:GREGORIAN
METHOD:PUBLISH
X-ORIGINAL-URL:https://caravanclub.se
X-WR-CALDESC:Händelser för Caravan Club of Sweden
REFRESH-INTERVAL;VALUE=DURATION:PT1H
X-Robots-Tag:noindex
X-PUBLISHED-TTL:PT1H
BEGIN:VTIMEZONE
TZID:Europe/Stockholm
BEGIN:DAYLIGHT
TZOFFSETFROM:+0100
TZOFFSETTO:+0200
TZNAME:CEST
DTSTART:20250330T010000
END:DAYLIGHT
BEGIN:STANDARD
TZOFFSETFROM:+0200
TZOFFSETTO:+0100
TZNAME:CET
DTSTART:20251026T010000
END:STANDARD
BEGIN:DAYLIGHT
TZOFFSETFROM:+0100
TZOFFSETTO:+0200
TZNAME:CEST
DTSTART:20260329T010000
END:DAYLIGHT
BEGIN:STANDARD
TZOFFSETFROM:+0200
TZOFFSETTO:+0100
TZNAME:CET
DTSTART:20261025T010000
END:STANDARD
BEGIN:DAYLIGHT
TZOFFSETFROM:+0100
TZOFFSETTO:+0200
TZNAME:CEST
DTSTART:20270328T010000
END:DAYLIGHT
BEGIN:STANDARD
TZOFFSETFROM:+0200
TZOFFSETTO:+0100
TZNAME:CET
DTSTART:20271031T010000
END:STANDARD
END:VTIMEZONE
BEGIN:VEVENT
DTSTART;TZID=Europe/Stockholm:20260513T080000
DTEND;TZID=Europe/Stockholm:20260517T170000
DTSTAMP:20260420T014230
CREATED:20260216T175804Z
LAST-MODIFIED:20260217T132136Z
UID:10001133-1778659200-1779037200@caravanclub.se
SUMMARY:Kristi Himmelsfärd på Kapellskär
DESCRIPTION:
URL:https://caravanclub.se/event/kristi-himmelsfard-pa-kapellskar/
LOCATION:Caravan Club Kapellskär\, Myntarbyäng\, Gräddö\, 76015\, Sverige
ATTACH;FMTTYPE=application/pdf:https://caravanclub.se/content/uploads/Inbjudan-Kristi-himmelfard-2-3.pdf
END:VEVENT
BEGIN:VEVENT
DTSTART;TZID=Europe/Stockholm:20260514T080000
DTEND;TZID=Europe/Stockholm:20260514T170000
DTSTAMP:20260420T014230
CREATED:20260116T125614Z
LAST-MODIFIED:20260116T130512Z
UID:10001063-1778745600-1778778000@caravanclub.se
SUMMARY:Kristihimmelfärdsfest Östnora
DESCRIPTION:Loppis\, buffé\, tipspromenad\, quiz\,\n(Barnaktivitet)
URL:https://caravanclub.se/event/kristihimmelfardsfest/
LOCATION:Östnora\, Östnoravägen 37\, Västerhaninge
END:VEVENT
BEGIN:VEVENT
DTSTART;TZID=Europe/Stockholm:20260514T110000
DTEND;TZID=Europe/Stockholm:20260514T160000
DTSTAMP:20260420T014230
CREATED:20260126T160544Z
LAST-MODIFIED:20260205T091504Z
UID:10001082-1778756400-1778774400@caravanclub.se
SUMMARY:Fritidsbutiken visar sina produkter på Sandvik
DESCRIPTION:  \nFritidsbutiken kommer till Sandvik och visar upp sina produkter från butiken i Linköping\nSå passa på att göra ett besök när ni befinner er hos oss i Sandvik.\nVälkomna
URL:https://caravanclub.se/event/fritidsbutiken-visar-sina-produkter-pa-sandvik/
LOCATION:Sandvik\, Sandvik\, Vreta Kloster\, 59078\, Sverige
ATTACH;FMTTYPE=image/jpeg:https://caravanclub.se/content/uploads/fritidsbutiken.jpg
END:VEVENT
BEGIN:VEVENT
DTSTART;TZID=Europe/Stockholm:20260515T000000
DTEND;TZID=Europe/Stockholm:20260515T000000
DTSTAMP:20260420T014230
CREATED:20260319T105915Z
LAST-MODIFIED:20260319T105915Z
UID:10001179-1778803200-1778803200@caravanclub.se
SUMMARY:Trivselkväll i Kultrycket
DESCRIPTION:Med reservation för tillägg eller ändringar. \nVi uppdaterar på hemsidan\, Facebook och anslagstavlan på Norbergs Camping.
URL:https://caravanclub.se/event/trivselkvall-i-kultrycket/
LOCATION:Norbergs Camping\, Fraggvägen 1\, Norberg\, 738 31
END:VEVENT
BEGIN:VEVENT
DTSTART;VALUE=DATE:20260516
DTEND;VALUE=DATE:20260517
DTSTAMP:20260420T014230
CREATED:20260214T124420Z
LAST-MODIFIED:20260325T180718Z
UID:10001118-1778889600-1778975999@caravanclub.se
SUMMARY:Kärradal Kristi himmelfärdsdag
DESCRIPTION:Lördagen den 16 Maj är ni välkomna till Kärradal där aktivitetsgruppen anordnar en trevlig dag. \nMöjlighet att köpa frallor från 08.00 på lördagen den 16/5 \nFredagkväll 15 Maj klockan 19.00 \nTacokväll och musik av Trubaduren Fredrik
URL:https://caravanclub.se/event/kristi-himmelfardsdag-pa-karradal/
LOCATION:Caravan Club Kärradal\, Liabovägen\, Varberg\, 432 95\, Sweden
END:VEVENT
BEGIN:VEVENT
DTSTART;VALUE=DATE:20260516
DTEND;VALUE=DATE:20260517
DTSTAMP:20260420T014230
CREATED:20260225T085121Z
LAST-MODIFIED:20260303T211307Z
UID:10001158-1778889600-1778975999@caravanclub.se
SUMMARY:Helgrillad gris Söndremark
DESCRIPTION:HELGRILLAD GRIS MED TILLBEHÖR \nLördagen 16 maj kl. 18.00 i Dansladan \nUnder kvällen underhåller Harletun med sång och musikbingo \nPris 250:- vuxen och 125:- för barn upp till 12 år. \nMedtag egen dricka och glas. \nAnmälan för dygnsgäster görs samtidigt som man bokar plats.\nSäsongare anmäler sig i receptionen.\nSista anmälningsdag 3 maj \nVarmt välkomna till ladan för en trevlig kväll tillsammans!\nAktivitetskommittén \nVid frågor kontakta Förvaltningskommittén sondremark@caravanclub.se \n 
URL:https://caravanclub.se/event/helgrillad-gris-sondremark/
LOCATION:Söndremark camping\, Ivö\, Caravanvägen 50\, Fjälkinge\, 291 68\, Sverige
ATTACH;FMTTYPE=image/jpeg:https://caravanclub.se/content/uploads/grisfest-1.jpg
ORGANIZER;CN="S%C3%B6ndremark camping":MAILTO:sondremark@ccklm.se
END:VEVENT
BEGIN:VEVENT
DTSTART;TZID=Europe/Stockholm:20260516T110000
DTEND;TZID=Europe/Stockholm:20260516T170000
DTSTAMP:20260420T014230
CREATED:20260126T161102Z
LAST-MODIFIED:20260205T091640Z
UID:10001083-1778929200-1778950800@caravanclub.se
SUMMARY:Spela nummerkubb på Sandvik
DESCRIPTION:  \nKom och pröva turen att spela nummerkubb hos oss på Sandvik den 16/5.\nVälkomna
URL:https://caravanclub.se/event/spela-nummerkubb-pa-sandvik/
LOCATION:Sandvik\, Sandvik\, Vreta Kloster\, 59078\, Sverige
ATTACH;FMTTYPE=image/jpeg:https://caravanclub.se/content/uploads/nummerkubb.jpg
END:VEVENT
END:VCALENDAR