BEGIN:VCALENDAR
VERSION:2.0
PRODID:-//Caravan Club of Sweden - ECPv6.15.17.1//NONSGML v1.0//EN
CALSCALE:GREGORIAN
METHOD:PUBLISH
X-ORIGINAL-URL:https://caravanclub.se
X-WR-CALDESC:Händelser för Caravan Club of Sweden
REFRESH-INTERVAL;VALUE=DURATION:PT1H
X-Robots-Tag:noindex
X-PUBLISHED-TTL:PT1H
BEGIN:VTIMEZONE
TZID:Europe/Stockholm
BEGIN:DAYLIGHT
TZOFFSETFROM:+0100
TZOFFSETTO:+0200
TZNAME:CEST
DTSTART:20250330T010000
END:DAYLIGHT
BEGIN:STANDARD
TZOFFSETFROM:+0200
TZOFFSETTO:+0100
TZNAME:CET
DTSTART:20251026T010000
END:STANDARD
BEGIN:DAYLIGHT
TZOFFSETFROM:+0100
TZOFFSETTO:+0200
TZNAME:CEST
DTSTART:20260329T010000
END:DAYLIGHT
BEGIN:STANDARD
TZOFFSETFROM:+0200
TZOFFSETTO:+0100
TZNAME:CET
DTSTART:20261025T010000
END:STANDARD
BEGIN:DAYLIGHT
TZOFFSETFROM:+0100
TZOFFSETTO:+0200
TZNAME:CEST
DTSTART:20270328T010000
END:DAYLIGHT
BEGIN:STANDARD
TZOFFSETFROM:+0200
TZOFFSETTO:+0100
TZNAME:CET
DTSTART:20271031T010000
END:STANDARD
END:VTIMEZONE
BEGIN:VEVENT
DTSTART;TZID=Europe/Stockholm:20260529T000000
DTEND;TZID=Europe/Stockholm:20260531T000000
DTSTAMP:20260420T014233
CREATED:20260310T100351Z
LAST-MODIFIED:20260310T100807Z
UID:10001172-1780012800-1780185600@caravanclub.se
SUMMARY:Vårträff i Värmland
DESCRIPTION:Välkommen till vårträff på Sandaholm camping intill vackra Järnsjön! \nKommer att bli en kanonhelg – som tidigare vårträffar. \nAnmälan och frågor: lars.lundstrom@caravanclub.se. Anmälan senast 1/5.
URL:https://caravanclub.se/event/vartraff/
LOCATION:Sandaholms camping\, Sanda Sjövik 1\, Årjäng
END:VEVENT
BEGIN:VEVENT
DTSTART;TZID=Europe/Stockholm:20260529T170000
DTEND;TZID=Europe/Stockholm:20260530T170000
DTSTAMP:20260420T014233
CREATED:20260217T084421Z
LAST-MODIFIED:20260217T084421Z
UID:10001142-1780074000-1780160400@caravanclub.se
SUMMARY:Muskiquiz eller Karaokekvällar Björkö Örn
DESCRIPTION:
URL:https://caravanclub.se/event/muskiquiz-eller-karaokekvallar-bjorko-orn/
LOCATION:Caravan Club Björkö Örn\, Björkö Örns Camping\, Gräddö\, 71650\, Sweden
END:VEVENT
BEGIN:VEVENT
DTSTART;TZID=Europe/Stockholm:20260530T000000
DTEND;TZID=Europe/Stockholm:20260530T000000
DTSTAMP:20260420T014233
CREATED:20260319T110356Z
LAST-MODIFIED:20260319T110356Z
UID:10001181-1780099200-1780099200@caravanclub.se
SUMMARY:Trivselkväll i Kultrycket
DESCRIPTION:Med reservation för tillägg eller ändringar. \nVi uppdaterar på hemsidan\, Facebook och anslagstavlan på Norbergs Camping.
URL:https://caravanclub.se/event/trivselkvall-i-kultrycket-3/
LOCATION:Norbergs Camping\, Fraggvägen 1\, Norberg\, 738 31
END:VEVENT
BEGIN:VEVENT
DTSTART;VALUE=DATE:20260530
DTEND;VALUE=DATE:20260531
DTSTAMP:20260420T014233
CREATED:20260214T131728Z
LAST-MODIFIED:20260214T131728Z
UID:10001122-1780099200-1780185599@caravanclub.se
SUMMARY:Manöverkörning på Kärradal
DESCRIPTION:  \nVi anordnar manöverkörning på Kärradal.\nmer info och program kommer.
URL:https://caravanclub.se/event/manoverkorning-pa-karradal/
LOCATION:Caravan Club Kärradal\, Liabovägen\, Varberg\, 432 95\, Sweden
END:VEVENT
BEGIN:VEVENT
DTSTART;TZID=Europe/Stockholm:20260530T100000
DTEND;TZID=Europe/Stockholm:20260530T170000
DTSTAMP:20260420T014233
CREATED:20260126T155843Z
LAST-MODIFIED:20260205T091807Z
UID:10001081-1780135200-1780160400@caravanclub.se
SUMMARY:Invigning nya fenomenmagasinet i Linköping
DESCRIPTION:  \nKom och upplev massa roliga saker på Linköpings nyöppnade fenomenmagasin\ndär man både kan upptäcka och testa saker både för stora och små.\nVälkomna
URL:https://caravanclub.se/event/invigning-nya-fenomenmagasinet-i-linkoping/
LOCATION:fenomenmagasinet linköping\, Stratomtavägen 13D\, Linköping\, 583 30\, Sweden
ATTACH;FMTTYPE=image/jpeg:https://caravanclub.se/content/uploads/nya-fenomenmagasinet.jpg
END:VEVENT
BEGIN:VEVENT
DTSTART;TZID=Europe/Stockholm:20260530T100000
DTEND;TZID=Europe/Stockholm:20260530T180000
DTSTAMP:20260420T014233
CREATED:20260126T161817Z
LAST-MODIFIED:20260205T091936Z
UID:10001084-1780135200-1780164000@caravanclub.se
SUMMARY:Idag öppnar vi upp vår restaurang på Sandvik
DESCRIPTION:  \nIdag 30/5 öppnar vi upp restaurangen här i Sandvik.\nÖppettider samt meny kommer finnas på anslag vid restaurangen samt på vår hemsida\nVälkomna på en liten lunch eller något annan gott.
URL:https://caravanclub.se/event/idag-oppnar-vi-upp-var-restaurang-pa-sandvik/
LOCATION:Sandvik\, Sandvik\, Vreta Kloster\, 59078\, Sverige
ATTACH;FMTTYPE=image/jpeg:https://caravanclub.se/content/uploads/Restaurangen_2-scaled.jpg
END:VEVENT
BEGIN:VEVENT
DTSTART;VALUE=DATE:20260531
DTEND;VALUE=DATE:20260601
DTSTAMP:20260420T014233
CREATED:20260214T125239Z
LAST-MODIFIED:20260325T175210Z
UID:10001119-1780185600-1780271999@caravanclub.se
SUMMARY:Mors dags firande på Kärradal
DESCRIPTION:Vi firar Mors dag på Kärradal. \nKlockan 12.00 Tårta och kaffe.
URL:https://caravanclub.se/event/mors-dags-firande-pa-karradal/
LOCATION:Caravan Club Kärradal\, Liabovägen\, Varberg\, 432 95\, Sweden
END:VEVENT
END:VCALENDAR