BEGIN:VCALENDAR
VERSION:2.0
PRODID:-//Caravan Club of Sweden - ECPv6.15.17.1//NONSGML v1.0//EN
CALSCALE:GREGORIAN
METHOD:PUBLISH
X-ORIGINAL-URL:https://caravanclub.se
X-WR-CALDESC:Händelser för Caravan Club of Sweden
REFRESH-INTERVAL;VALUE=DURATION:PT1H
X-Robots-Tag:noindex
X-PUBLISHED-TTL:PT1H
BEGIN:VTIMEZONE
TZID:Europe/Stockholm
BEGIN:DAYLIGHT
TZOFFSETFROM:+0100
TZOFFSETTO:+0200
TZNAME:CEST
DTSTART:20250330T010000
END:DAYLIGHT
BEGIN:STANDARD
TZOFFSETFROM:+0200
TZOFFSETTO:+0100
TZNAME:CET
DTSTART:20251026T010000
END:STANDARD
BEGIN:DAYLIGHT
TZOFFSETFROM:+0100
TZOFFSETTO:+0200
TZNAME:CEST
DTSTART:20260329T010000
END:DAYLIGHT
BEGIN:STANDARD
TZOFFSETFROM:+0200
TZOFFSETTO:+0100
TZNAME:CET
DTSTART:20261025T010000
END:STANDARD
BEGIN:DAYLIGHT
TZOFFSETFROM:+0100
TZOFFSETTO:+0200
TZNAME:CEST
DTSTART:20270328T010000
END:DAYLIGHT
BEGIN:STANDARD
TZOFFSETFROM:+0200
TZOFFSETTO:+0100
TZNAME:CET
DTSTART:20271031T010000
END:STANDARD
END:VTIMEZONE
BEGIN:VEVENT
DTSTART;TZID=Europe/Stockholm:20260612T190000
DTEND;TZID=Europe/Stockholm:20260613T180000
DTSTAMP:20260420T014108
CREATED:20260302T193427Z
LAST-MODIFIED:20260302T193427Z
UID:10001163-1781290800-1781373600@caravanclub.se
SUMMARY:Vätternrundan
DESCRIPTION:Vätternrundan världens största cykelmotionslopp start och mål i Motala.
URL:https://caravanclub.se/event/vatternrundan/
LOCATION:Motala\, Bangårdsgatan 3\, Motala\, 59121\, Sverige
ATTACH;FMTTYPE=image/jpeg:https://caravanclub.se/content/uploads/vatternrundan-1.jpg
ORGANIZER;CN="vatternrundan":MAILTO:info@vatternrundan.se
END:VEVENT
BEGIN:VEVENT
DTSTART;TZID=Europe/Stockholm:20260613T000000
DTEND;TZID=Europe/Stockholm:20260613T000000
DTSTAMP:20260420T014108
CREATED:20260319T110858Z
LAST-MODIFIED:20260319T113645Z
UID:10001183-1781308800-1781308800@caravanclub.se
SUMMARY:Tacofest i Norberg ( se senare separat inbjudan)
DESCRIPTION:Med reservation för tillägg eller ändringar. \nVi uppdaterar på hemsidan\, Facebook och anslagstavlan på Norbergs Camping.
URL:https://caravanclub.se/event/tacofest-se-senare-separat-inbjudan/
LOCATION:Norbergs Camping\, Fraggvägen 1\, Norberg\, 738 31
END:VEVENT
END:VCALENDAR