BEGIN:VCALENDAR
VERSION:2.0
PRODID:-//Caravan Club of Sweden - ECPv6.15.17.1//NONSGML v1.0//EN
CALSCALE:GREGORIAN
METHOD:PUBLISH
X-WR-CALNAME:Caravan Club of Sweden
X-ORIGINAL-URL:https://caravanclub.se
X-WR-CALDESC:Händelser för Caravan Club of Sweden
REFRESH-INTERVAL;VALUE=DURATION:PT1H
X-Robots-Tag:noindex
X-PUBLISHED-TTL:PT1H
BEGIN:VTIMEZONE
TZID:Europe/Stockholm
BEGIN:DAYLIGHT
TZOFFSETFROM:+0100
TZOFFSETTO:+0200
TZNAME:CEST
DTSTART:20250330T010000
END:DAYLIGHT
BEGIN:STANDARD
TZOFFSETFROM:+0200
TZOFFSETTO:+0100
TZNAME:CET
DTSTART:20251026T010000
END:STANDARD
BEGIN:DAYLIGHT
TZOFFSETFROM:+0100
TZOFFSETTO:+0200
TZNAME:CEST
DTSTART:20260329T010000
END:DAYLIGHT
BEGIN:STANDARD
TZOFFSETFROM:+0200
TZOFFSETTO:+0100
TZNAME:CET
DTSTART:20261025T010000
END:STANDARD
BEGIN:DAYLIGHT
TZOFFSETFROM:+0100
TZOFFSETTO:+0200
TZNAME:CEST
DTSTART:20270328T010000
END:DAYLIGHT
BEGIN:STANDARD
TZOFFSETFROM:+0200
TZOFFSETTO:+0100
TZNAME:CET
DTSTART:20271031T010000
END:STANDARD
END:VTIMEZONE
BEGIN:VEVENT
DTSTART;TZID=Europe/Stockholm:20260708T080000
DTEND;TZID=Europe/Stockholm:20260708T170000
DTSTAMP:20260420T030508
CREATED:20260220T100014Z
LAST-MODIFIED:20260419T095244Z
UID:10001144-1783497600-1783530000@caravanclub.se
SUMMARY:Familjeaktivitet med loppis Björkö Örn
DESCRIPTION:
URL:https://caravanclub.se/event/familjeaktivitet-bjorko-orn/
LOCATION:Caravan Club Björkö Örn\, Björkö Örns Camping\, Gräddö\, 71650\, Sweden
END:VEVENT
BEGIN:VEVENT
DTSTART;TZID=Europe/Stockholm:20260711T000000
DTEND;TZID=Europe/Stockholm:20260711T000000
DTSTAMP:20260420T030508
CREATED:20260319T112133Z
LAST-MODIFIED:20260319T112133Z
UID:10001189-1783728000-1783728000@caravanclub.se
SUMMARY:Fisketävling i Norberg
DESCRIPTION:Med reservation för tillägg eller ändringar. \nVi uppdaterar på hemsidan\, Facebook och anslagstavlan på Norbergs Camping.
URL:https://caravanclub.se/event/fisketavling-i-norberg/
LOCATION:Norbergs Camping\, Fraggvägen 1\, Norberg\, 738 31
END:VEVENT
BEGIN:VEVENT
DTSTART;TZID=Europe/Stockholm:20260711T000000
DTEND;TZID=Europe/Stockholm:20260711T000000
DTSTAMP:20260420T030508
CREATED:20260319T112257Z
LAST-MODIFIED:20260319T112257Z
UID:10001190-1783728000-1783728000@caravanclub.se
SUMMARY:Trivselkväll i Kultrycket
DESCRIPTION:Med reservation för tillägg eller ändringar. \nVi uppdaterar på hemsidan\, Facebook och anslagstavlan på Norbergs Camping.
URL:https://caravanclub.se/event/trivselkvall-i-kultrycket-6/
LOCATION:Norbergs Camping\, Fraggvägen 1\, Norberg\, 738 31
END:VEVENT
BEGIN:VEVENT
DTSTART;TZID=Europe/Stockholm:20260711T180000
DTEND;TZID=Europe/Stockholm:20260711T230000
DTSTAMP:20260420T030508
CREATED:20260216T181810Z
LAST-MODIFIED:20260216T181810Z
UID:10001137-1783792800-1783810800@caravanclub.se
SUMMARY:Grillafton Kapellskär
DESCRIPTION:
URL:https://caravanclub.se/event/grillafton-kapellskar/
LOCATION:Caravan Club Kapellskär\, Myntarbyäng\, Gräddö\, 76015\, Sverige
END:VEVENT
END:VCALENDAR