BEGIN:VCALENDAR
VERSION:2.0
PRODID:-//Caravan Club of Sweden - ECPv6.15.17.1//NONSGML v1.0//EN
CALSCALE:GREGORIAN
METHOD:PUBLISH
X-WR-CALNAME:Caravan Club of Sweden
X-ORIGINAL-URL:https://caravanclub.se
X-WR-CALDESC:Händelser för Caravan Club of Sweden
REFRESH-INTERVAL;VALUE=DURATION:PT1H
X-Robots-Tag:noindex
X-PUBLISHED-TTL:PT1H
BEGIN:VTIMEZONE
TZID:Europe/Stockholm
BEGIN:DAYLIGHT
TZOFFSETFROM:+0100
TZOFFSETTO:+0200
TZNAME:CEST
DTSTART:20250330T010000
END:DAYLIGHT
BEGIN:STANDARD
TZOFFSETFROM:+0200
TZOFFSETTO:+0100
TZNAME:CET
DTSTART:20251026T010000
END:STANDARD
BEGIN:DAYLIGHT
TZOFFSETFROM:+0100
TZOFFSETTO:+0200
TZNAME:CEST
DTSTART:20260329T010000
END:DAYLIGHT
BEGIN:STANDARD
TZOFFSETFROM:+0200
TZOFFSETTO:+0100
TZNAME:CET
DTSTART:20261025T010000
END:STANDARD
BEGIN:DAYLIGHT
TZOFFSETFROM:+0100
TZOFFSETTO:+0200
TZNAME:CEST
DTSTART:20270328T010000
END:DAYLIGHT
BEGIN:STANDARD
TZOFFSETFROM:+0200
TZOFFSETTO:+0100
TZNAME:CET
DTSTART:20271031T010000
END:STANDARD
END:VTIMEZONE
BEGIN:VEVENT
DTSTART;TZID=Europe/Stockholm:20260815T000000
DTEND;TZID=Europe/Stockholm:20260815T000000
DTSTAMP:20260420T072456
CREATED:20260319T112704Z
LAST-MODIFIED:20260319T112704Z
UID:10001193-1786752000-1786752000@caravanclub.se
SUMMARY:Kräftskiva i Norberg ( se senare separat inbjudan)
DESCRIPTION:Med reservation för tillägg eller ändringar. \nVi uppdaterar på hemsidan\, Facebook och anslagstavlan på Norbergs Camping.
URL:https://caravanclub.se/event/kraftskiva-i-norberg-se-senare-separat-inbjudan/
LOCATION:Norbergs Camping\, Fraggvägen 1\, Norberg\, 738 31
END:VEVENT
BEGIN:VEVENT
DTSTART;TZID=Europe/Stockholm:20260815T100000
DTEND;TZID=Europe/Stockholm:20260815T233000
DTSTAMP:20260420T072456
CREATED:20260127T165709Z
LAST-MODIFIED:20260205T093040Z
UID:10001092-1786788000-1786836600@caravanclub.se
SUMMARY:Kräftskiva på Borensäng
DESCRIPTION:  \nIdag blir det kräftskiva här på Borensäng.\nProgrammet för dagen kommer finnas som anslag på campingen och även på vår FB sida.\nAlla är välkomna och fira denna augustidag med oss på Borensäng
URL:https://caravanclub.se/event/kraftskiva-pa-borensang/
LOCATION:Borensäng\, Bergsvägen 30\, Borensberg\, 59031\, Sverige
ATTACH;FMTTYPE=image/jpeg:https://caravanclub.se/content/uploads/kraftskiva.jpg
END:VEVENT
BEGIN:VEVENT
DTSTART;TZID=Europe/Stockholm:20260815T100000
DTEND;TZID=Europe/Stockholm:20260815T233000
DTSTAMP:20260420T072456
CREATED:20260127T170746Z
LAST-MODIFIED:20260205T093155Z
UID:10001093-1786788000-1786836600@caravanclub.se
SUMMARY:Kräftskiva med trubadur på Sandvik
DESCRIPTION:  \nDenna augustidag kommer vi ha vår traditions enliga kräftskiva här på Sandvik\nsamt trevlig livemusik med trubadur.\nDagens program kommer finnas på anslag på campingen samt på vår FB sida\nVälkomna!
URL:https://caravanclub.se/event/kraftskiva-med-trubadur-pa-sandvik/
LOCATION:Sandvik\, Sandvik\, Vreta Kloster\, 59078\, Sverige
ATTACH;FMTTYPE=image/jpeg:https://caravanclub.se/content/uploads/kraftmane.jpg
END:VEVENT
BEGIN:VEVENT
DTSTART;TZID=Europe/Stockholm:20260815T170000
DTEND;TZID=Europe/Stockholm:20260815T230000
DTSTAMP:20260420T072456
CREATED:20260312T082839Z
LAST-MODIFIED:20260312T082952Z
UID:10001173-1786813200-1786834800@caravanclub.se
SUMMARY:Kräftskiva Mista
DESCRIPTION:
URL:https://caravanclub.se/event/kraftskiva/
LOCATION:Caravan Club Mista\, Mista 1\, Vaxholm\, Vaxholm\, 18593\, Sweden
END:VEVENT
END:VCALENDAR