BEGIN:VCALENDAR
VERSION:2.0
PRODID:-//Caravan Club of Sweden - ECPv6.15.17.1//NONSGML v1.0//EN
CALSCALE:GREGORIAN
METHOD:PUBLISH
X-WR-CALNAME:Caravan Club of Sweden
X-ORIGINAL-URL:https://caravanclub.se
X-WR-CALDESC:Händelser för Caravan Club of Sweden
REFRESH-INTERVAL;VALUE=DURATION:PT1H
X-Robots-Tag:noindex
X-PUBLISHED-TTL:PT1H
BEGIN:VTIMEZONE
TZID:Europe/Stockholm
BEGIN:DAYLIGHT
TZOFFSETFROM:+0100
TZOFFSETTO:+0200
TZNAME:CEST
DTSTART:20250330T010000
END:DAYLIGHT
BEGIN:STANDARD
TZOFFSETFROM:+0200
TZOFFSETTO:+0100
TZNAME:CET
DTSTART:20251026T010000
END:STANDARD
BEGIN:DAYLIGHT
TZOFFSETFROM:+0100
TZOFFSETTO:+0200
TZNAME:CEST
DTSTART:20260329T010000
END:DAYLIGHT
BEGIN:STANDARD
TZOFFSETFROM:+0200
TZOFFSETTO:+0100
TZNAME:CET
DTSTART:20261025T010000
END:STANDARD
BEGIN:DAYLIGHT
TZOFFSETFROM:+0100
TZOFFSETTO:+0200
TZNAME:CEST
DTSTART:20270328T010000
END:DAYLIGHT
BEGIN:STANDARD
TZOFFSETFROM:+0200
TZOFFSETTO:+0100
TZNAME:CET
DTSTART:20271031T010000
END:STANDARD
END:VTIMEZONE
BEGIN:VEVENT
DTSTART;TZID=Europe/Stockholm:20260424T080000
DTEND;TZID=Europe/Stockholm:20260426T170000
DTSTAMP:20260421T102516
CREATED:20251023T112635Z
LAST-MODIFIED:20251222T110747Z
UID:10001037-1777017600-1777222800@caravanclub.se
SUMMARY:Årsmöte Stockholms sektionen
DESCRIPTION:Välkommen till Årsmöte 24–26 april 2026 på Björkö Örn och Kapellskär \nPacka husvagnen\, ta med sångrösten och häng med på en härlig helg fylld med gemenskap\, aktiviteter och fest! \nFredag 24 april\nIncheckning från kl. 12.00 på både Kapellskär och Björkö Örn camping.\nGrilltallrik & buffé på kvällen – serveras på båda campingplatserna.\nDans\, karaoke & levande musik – vi drar igång helgen med feststämning! \nLördag 25 april\nCornholeturnering – Kapellskär kl 09.00–16.00\, Manöverkörning – Kapellskärs hamn kl 10.00–15.00 \nGratis minibussar mellan Björkö Örn och Kapellskär kl 09.00–16.30 \nÅrsmötet hålls under lördagen och efter mötet är det middag & fest i stort tält på Björkö Örn med liveframträdanden hela kvällen!\nStora bussar går från Kapellskär till årsmötet/middagen och tillbaka i två omgångar under kvällen. \n Söndag 26 april\nAvslutning och hemfärd – fulladdade med nya minnen! \nPris – Gästekipage med 2 personer 1100 kr för 2 nätter\, middag fredag och lördag\, lunch lördag.\nSäsongsgäst 249 kr per person för middag fredag och lördag\, lunch lördag \nAnmälan krävs! \nMejla Hans Östman: hans.ostman@cc-camping.se\nAnmäl dig i god tid – platserna brukar gå åt snabbt! \nVi ses på årets höjdpunkt – välkommen till Årsmötet 2026!
URL:https://caravanclub.se/event/arsmote-stockholms-sektionen/
LOCATION:Caravan Club Björkö Örn\, Björkö Örns Camping\, Gräddö\, 71650\, Sweden
END:VEVENT
BEGIN:VEVENT
DTSTART;VALUE=DATE:20260425
DTEND;VALUE=DATE:20260426
DTSTAMP:20260421T102516
CREATED:20260214T130141Z
LAST-MODIFIED:20260214T130141Z
UID:10001120-1777075200-1777161599@caravanclub.se
SUMMARY:Årsmöte och träff Älvsborgssektionen 25 April 2026
DESCRIPTION:Årsmötet kommer att hållas den 25 April 2026\npå Tånga Heds Camping Vandrarhem och Evenemang. \nKallelse och andra handlingar för årsmötet kommer att publiceras separat bland annat på vår hemsida senast 10 dagar innan årsmötet. \nInbjudan till träffen 24-26 April i Vårgårda kommer att skickas ut i medlemsmejlet och våra sociala medier såsom Facebook och Instagram.
URL:https://caravanclub.se/event/arsmote-och-traff-alvsborgssektionen-25-april-2026/
LOCATION:Tångahed Camping\, Campingvägen 2\, Vårgårda\, 44734\, Sweden
END:VEVENT
BEGIN:VEVENT
DTSTART;TZID=Europe/Stockholm:20260425T100000
DTEND;TZID=Europe/Stockholm:20260425T140000
DTSTAMP:20260421T102516
CREATED:20260127T164057Z
LAST-MODIFIED:20260205T091236Z
UID:10001091-1777111200-1777125600@caravanclub.se
SUMMARY:Allmän städdag på Sandvik
DESCRIPTION:  \nIdag är det allmän städdag här i Sandvik\nVälkomna alla säsongare!
URL:https://caravanclub.se/event/allman-staddag-pa-sandvik/
LOCATION:Sandvik\, Sandvik\, Vreta Kloster\, 59078\, Sverige
ATTACH;FMTTYPE=image/jpeg:https://caravanclub.se/content/uploads/stadning.jpg
END:VEVENT
BEGIN:VEVENT
DTSTART;TZID=Europe/Stockholm:20260425T100000
DTEND;TZID=Europe/Stockholm:20260425T170000
DTSTAMP:20260421T102516
CREATED:20260126T152603Z
LAST-MODIFIED:20260325T122415Z
UID:10001080-1777111200-1777136400@caravanclub.se
SUMMARY:Allmän städdag på Borensäng samt minimässa från fritidsbutiken
DESCRIPTION:  \nEfter dagens städdag kommer fritidsbutiken i Linköping till oss på Borensäng och visar upp ett urval av sina produkter.\nPassa på att göra ett besök hos oss på Borensäng.\nVälkomna!
URL:https://caravanclub.se/event/allman-staddag-pa-borensang-samt-mini-massa-fran-fritidsbutiken/
LOCATION:Borensäng\, Bergsvägen 30\, Borensberg\, 59031\, Sverige
ATTACH;FMTTYPE=image/jpeg:https://caravanclub.se/content/uploads/fritidsbutiken.jpg
END:VEVENT
END:VCALENDAR